BEGIN:VCALENDAR
VERSION:2.0
PRODID:-//THE BLACK LAB - ECPv6.6.4//NONSGML v1.0//EN
CALSCALE:GREGORIAN
METHOD:PUBLISH
X-ORIGINAL-URL:https://theblacklab.fr
X-WR-CALDESC:évènements pour THE BLACK LAB
REFRESH-INTERVAL;VALUE=DURATION:PT1H
X-Robots-Tag:noindex
X-PUBLISHED-TTL:PT1H
BEGIN:VTIMEZONE
TZID:Europe/Paris
BEGIN:DAYLIGHT
TZOFFSETFROM:+0100
TZOFFSETTO:+0200
TZNAME:CEST
DTSTART:20250330T010000
END:DAYLIGHT
BEGIN:STANDARD
TZOFFSETFROM:+0200
TZOFFSETTO:+0100
TZNAME:CET
DTSTART:20251026T010000
END:STANDARD
END:VTIMEZONE
BEGIN:VEVENT
DTSTART;TZID=Europe/Paris:20250222T190000
DTEND;TZID=Europe/Paris:20250222T233000
DTSTAMP:20260420T193143
CREATED:20250108T104315Z
LAST-MODIFIED:20250108T104319Z
UID:6427-1740250800-1740267000@theblacklab.fr
SUMMARY:DEATH STRUCTURE + SOUL-X + MORPAIN
DESCRIPTION:Association Noirs Décibels & The Black Lab sont fiers de vous présenter la RELEASE PARTY du 2nd Album de DEATH STRUCTURE “Le Déni”. \n\n\n\nEvénement de soutien constitué des groupes amateurs des Hauts-de-France suivant : \n\n\n\n– DEATH STRUCTURE [ Modern Death Metal / Lille ]https://www.facebook.com/deathstructure \n\n\n\n\n\n\n\n\n\n – SOUL-X [ Groove Thrash Metal / Lille ]https://www.facebook.com/SoulxRepresent \n\n\n\n\n\n\n\n\n\n – MORPAIN [ Brutal Hardcore / Hénin-Beaumont ]https://www.facebook.com/MORPAIN.OFFICIAL \n\n\n\n\n\n\n\n\n\n\n\n\n\n \n\n\n\n\n\n\n\n\n\n\n\n\n\n\n\n\n\n\n\n\nACHETEZ VOS BILLETS
URL:https://theblacklab.fr/agenda/death-structure-soul-x-morpain/
CATEGORIES:ÉVÉNEMENT,SLIDER
ATTACH;FMTTYPE=image/png:https://theblacklab.fr/BL/wp-content/uploads/2025/01/deathstrucure-slider.png
END:VEVENT
END:VCALENDAR