BEGIN:VCALENDAR
VERSION:2.0
PRODID:-//THE BLACK LAB - ECPv6.6.4//NONSGML v1.0//EN
CALSCALE:GREGORIAN
METHOD:PUBLISH
X-WR-CALNAME:THE BLACK LAB
X-ORIGINAL-URL:https://theblacklab.fr
X-WR-CALDESC:évènements pour THE BLACK LAB
REFRESH-INTERVAL;VALUE=DURATION:PT1H
X-Robots-Tag:noindex
X-PUBLISHED-TTL:PT1H
BEGIN:VTIMEZONE
TZID:Europe/Paris
BEGIN:DAYLIGHT
TZOFFSETFROM:+0100
TZOFFSETTO:+0200
TZNAME:CEST
DTSTART:20250330T010000
END:DAYLIGHT
BEGIN:STANDARD
TZOFFSETFROM:+0200
TZOFFSETTO:+0100
TZNAME:CET
DTSTART:20251026T010000
END:STANDARD
END:VTIMEZONE
BEGIN:VEVENT
DTSTART;TZID=Europe/Paris:20250228T190000
DTEND;TZID=Europe/Paris:20250228T233000
DTSTAMP:20260420T163624
CREATED:20241210T122901Z
LAST-MODIFIED:20241210T122904Z
UID:6377-1740769200-1740785400@theblacklab.fr
SUMMARY:AC/DC TRIBUTE NIGHT
DESCRIPTION: Concert Hommage : ANGUS BAND Tribute AC/DC !  \n\n\n\n Rejoignez-nous pour une soirée explosive en deux parties dédiées au légendaire groupe AC/DC !  \n\n\n\n Première partie : L’ère Bon ScottRetour sur les années dorées du rock avec Bon Scott\, la voix brute et légendaire du groupe ! Nous revivrons les titres mythiques de “High Voltage”\, “Let There Be Rock”\, et bien sûr “Highway to Hell” ! \n\n\n\n Deuxième partie : L’ère Brian JohnsonPlace à la puissance de Brian Johnson et son arrivée dans le groupe\, avec des classiques comme “Back in Black”\, “You Shook Me All Night Long” et “Thunderstruck” qui vous feront vibrer ! \n\n\n\n Une soirée à ne pas manquer pour tous les fans de rock\, de riffs endiablés et d’énergie pure ! Venez vivre un show à couper le souffle ! \n\n\n\n\n\n\n\n\n\n\n\n\n\n\n\n\n\n\n\n\n\n\n\n\nACHETEZ VOS BILLETS\n\n\n\n\nPour toute revente de tickets merci d’utiliser la plateforme sécurisée de notre partenaire Ticketswap :https://www.ticketswap.fr/organizer/the-black-lab/1e321ecc-26b2-407d-beec-5e622438db8e
URL:https://theblacklab.fr/agenda/ac-dc-tribute-night/
CATEGORIES:ÉVÉNEMENT,SLIDER
ATTACH;FMTTYPE=image/png:https://theblacklab.fr/BL/wp-content/uploads/2024/12/acdctribute-slider.png
END:VEVENT
END:VCALENDAR