BEGIN:VCALENDAR
VERSION:2.0
PRODID:-//THE BLACK LAB - ECPv6.6.4//NONSGML v1.0//EN
CALSCALE:GREGORIAN
METHOD:PUBLISH
X-ORIGINAL-URL:https://theblacklab.fr
X-WR-CALDESC:évènements pour THE BLACK LAB
REFRESH-INTERVAL;VALUE=DURATION:PT1H
X-Robots-Tag:noindex
X-PUBLISHED-TTL:PT1H
BEGIN:VTIMEZONE
TZID:Europe/Paris
BEGIN:DAYLIGHT
TZOFFSETFROM:+0100
TZOFFSETTO:+0200
TZNAME:CEST
DTSTART:20250330T010000
END:DAYLIGHT
BEGIN:STANDARD
TZOFFSETFROM:+0200
TZOFFSETTO:+0100
TZNAME:CET
DTSTART:20251026T010000
END:STANDARD
END:VTIMEZONE
BEGIN:VEVENT
DTSTART;TZID=Europe/Paris:20250301T200000
DTEND;TZID=Europe/Paris:20250301T233000
DTSTAMP:20260420T163357
CREATED:20250127T142524Z
LAST-MODIFIED:20250225T151603Z
UID:6513-1740859200-1740871800@theblacklab.fr
SUMMARY:MARCEL ET SON ORCHESTRE : CRASH TEST SHOW
DESCRIPTION:“C’est pas à vous que ça m’arriverait” joué live dans son intégralité pour la première fois + les hits !!! \n\n\n\nCela fait plus de 35 ans que les Marcels cultivent la faute de goût. Leur énergie punk\, jubilatoire et convulsive les a conduits dans toutes les salles de France et sur les scènes de la plupart des festivals. Leur discographie est riche d’un répertoire deplus de 130 titres répartis sur 8 albums et 2 EP. À ce jour\, Marcel totalise plus de 450 000 disques vendus et au moins 2 500 concerts au compteur. Musique ou plutôt style d’appellation origine incontrôlable\, Marcel se situe très exactement entre Bourvil et Metallica. En jouant et mélangeant des milliards d’influences\, le groupe aura inventé le Raggabilly\, le trash-opérette\, la country-sélectif et le Blouck (Black-zouc). \n\n\n\nVolontiers décadents\, raffolant du mauvais goût\, les Marcel s’appliquent pour faire mauvais genre. Ils se régalent de nos fautes\, appuient là où ça fait mal. S’ils donnent l’air de se foutre de tout\, les Marcel ne se défilent pas quand il faut lever la voix et pousser des coups de gueule et s’il fallait leur coller une étiquette\, on dira que Marcel est un groupe 3D : Danse\, Déconne\, Dénonce \n\n\n\n\n\n\n\n\n\n\n\n\n\n\n\n\n\n\n\n\n\n\n\n\nACHETEZ VOS BILLETS
URL:https://theblacklab.fr/agenda/marcel-et-son-orchestre-crash-test-show/
CATEGORIES:ÉVÉNEMENT,SLIDER
ATTACH;FMTTYPE=image/png:https://theblacklab.fr/BL/wp-content/uploads/2025/01/marcel-slider.png
END:VEVENT
END:VCALENDAR