BEGIN:VCALENDAR
VERSION:2.0
PRODID:-//THE BLACK LAB - ECPv6.6.4//NONSGML v1.0//EN
CALSCALE:GREGORIAN
METHOD:PUBLISH
X-WR-CALNAME:THE BLACK LAB
X-ORIGINAL-URL:https://theblacklab.fr
X-WR-CALDESC:évènements pour THE BLACK LAB
REFRESH-INTERVAL;VALUE=DURATION:PT1H
X-Robots-Tag:noindex
X-PUBLISHED-TTL:PT1H
BEGIN:VTIMEZONE
TZID:Europe/Paris
BEGIN:DAYLIGHT
TZOFFSETFROM:+0100
TZOFFSETTO:+0200
TZNAME:CEST
DTSTART:20250330T010000
END:DAYLIGHT
BEGIN:STANDARD
TZOFFSETFROM:+0200
TZOFFSETTO:+0100
TZNAME:CET
DTSTART:20251026T010000
END:STANDARD
END:VTIMEZONE
BEGIN:VEVENT
DTSTART;TZID=Europe/Paris:20250303T200000
DTEND;TZID=Europe/Paris:20250303T233000
DTSTAMP:20260420T164132
CREATED:20240605T092432Z
LAST-MODIFIED:20240605T092436Z
UID:6017-1741032000-1741044600@theblacklab.fr
SUMMARY:FREAK KITCHEN
DESCRIPTION:À GAUCHE DE LA LUNE & THE BLACK LAB proudly present \n\n\n\nFreak Kitchen est de retour avec son dixième album\, intitulé « Everyone Gets Bloody ». \n\n\n\n11 chansons intenses qui couvrent des sujets allant de la polarisation\, la psychothérapie\, la mort d’un influenceur\, les experts\, aux petits actes rebelles dans la vie quotidienne\, la gravité et le deuil. Freak Kitchen est un groupe très apprécié sur scène dans le monde entier\, un trio avec beaucoup de détermination et d’enthousiasme ! Toujours à l’état brut et 100% live !« Everyone Gets Bloody » sera suivi de concerts dans le monde entier en 2024 & 2025. Le groupe attend cela avec impatience\, car il a sciemment évité toute forme de diffusion et de direct au cours des dernières années. Un concert de Freak Kitchen c’est l’interaction avec le public\, de la spontanéité et de l’improvisation\, toujours un grand moment en live ! \n\n\n\n\n\n\n\n\n\n\n\n\n\n\n\n\n\n\n\n\n\n\n\n\n\n\n\n\n\n\nACHETEZ VOS BILLETS\n\n\n\n\nPour toute revente de tickets merci d’utiliser la plateforme sécurisée de notre partenaire Ticketswap :https://www.ticketswap.fr/organizer/the-black-lab/1e321ecc-26b2-407d-beec-5e622438db8e
URL:https://theblacklab.fr/agenda/freak-kitchen/
CATEGORIES:ÉVÉNEMENT,SLIDER
ATTACH;FMTTYPE=image/png:https://theblacklab.fr/BL/wp-content/uploads/2024/06/Freak-Kitchen-slider-1.png
END:VEVENT
END:VCALENDAR