BEGIN:VCALENDAR
VERSION:2.0
PRODID:-//THE BLACK LAB - ECPv6.6.4//NONSGML v1.0//EN
CALSCALE:GREGORIAN
METHOD:PUBLISH
X-ORIGINAL-URL:https://theblacklab.fr
X-WR-CALDESC:évènements pour THE BLACK LAB
REFRESH-INTERVAL;VALUE=DURATION:PT1H
X-Robots-Tag:noindex
X-PUBLISHED-TTL:PT1H
BEGIN:VTIMEZONE
TZID:Europe/Paris
BEGIN:DAYLIGHT
TZOFFSETFROM:+0100
TZOFFSETTO:+0200
TZNAME:CEST
DTSTART:20250330T010000
END:DAYLIGHT
BEGIN:STANDARD
TZOFFSETFROM:+0200
TZOFFSETTO:+0100
TZNAME:CET
DTSTART:20251026T010000
END:STANDARD
END:VTIMEZONE
BEGIN:VEVENT
DTSTART;TZID=Europe/Paris:20250308T190000
DTEND;TZID=Europe/Paris:20250308T233000
DTSTAMP:20260420T164304
CREATED:20241210T124105Z
LAST-MODIFIED:20241210T124108Z
UID:6381-1741460400-1741476600@theblacklab.fr
SUMMARY:STÉPHANE
DESCRIPTION:➤ Stéphane\, 26 ans\, grandit à Genève au milieu de quatre frères et sœurs. La musique est comme une sœur additionnelle et tout le monde ou presque pratique un instrument. Violon\, saxophone\, piano…Pour Stéphane\, ce sera la guitare\, merci Jeff Buckley ! C’est après avoir entendu sa version de Hallelujah qu’elle se met à la six cordes… électrique. \n\n\n\nPuis vient le temps de l’adolescence\, électrique elle aussi. Au sortir de ses années de douce révolte juvénile\, Stéphane\, effrontée et rebelle\, signe sa première chanson\, Nouveau départ\, suite à une brouille avec sa meilleure amie. C’est la révélation. \n\n\n\nAprès un premier album et un an de tournée\, Stéphane a repris son stylo pour écrire la suite de Madame. Le succès de ce premier opus est indéniable : 25 millions de streams et le soutien de radios\, avec 1 milliard de contacts touchés. Il faut maintenant confirmer. \n\n\n\nEn 2024\, Stéphane sort Ma Chérie\, un des grands tubes de l’été\, qui marque le retour de l’artiste suisse. Single qui figure sur son tout dernier et deuxième album La prison des amoureuses malheureuses sorti le 27 septembre 2024. \n\n\n\n\n\n\n\n\n\n\n\n\n\n\n\n\n\n\n\n\n\n\n\n\nACHETEZ VOS BILLETS
URL:https://theblacklab.fr/agenda/stephane/
CATEGORIES:ÉVÉNEMENT,SLIDER
ATTACH;FMTTYPE=image/png:https://theblacklab.fr/BL/wp-content/uploads/2024/12/stephane-slider.png
END:VEVENT
END:VCALENDAR