BEGIN:VCALENDAR
VERSION:2.0
PRODID:-//THE BLACK LAB - ECPv6.6.4//NONSGML v1.0//EN
CALSCALE:GREGORIAN
METHOD:PUBLISH
X-WR-CALNAME:THE BLACK LAB
X-ORIGINAL-URL:https://theblacklab.fr
X-WR-CALDESC:évènements pour THE BLACK LAB
REFRESH-INTERVAL;VALUE=DURATION:PT1H
X-Robots-Tag:noindex
X-PUBLISHED-TTL:PT1H
BEGIN:VTIMEZONE
TZID:Europe/Paris
BEGIN:DAYLIGHT
TZOFFSETFROM:+0100
TZOFFSETTO:+0200
TZNAME:CEST
DTSTART:20250330T010000
END:DAYLIGHT
BEGIN:STANDARD
TZOFFSETFROM:+0200
TZOFFSETTO:+0100
TZNAME:CET
DTSTART:20251026T010000
END:STANDARD
END:VTIMEZONE
BEGIN:VEVENT
DTSTART;TZID=Europe/Paris:20250315T190000
DTEND;TZID=Europe/Paris:20250315T233000
DTSTAMP:20260420T164130
CREATED:20250113T205629Z
LAST-MODIFIED:20250113T205809Z
UID:6471-1742065200-1742081400@theblacklab.fr
SUMMARY:THE BENDS ANNIVERSARY - NO SUPRISES TRIBUTE RADIOHEAD
DESCRIPTION:Radiohead – The Bends XXX Anniversary \n\n\n\nPour célébrer les 30 ans de l’album légendaire The Bends\, “No Suprises – Tribute to Radiohead” vous propose un concert hommage de plus de 2 heures de musique live pour vous rejouer l’album entier ainsi que d’autres grands classiques du groupe culte !  \n\n\n\nPlongez dans l’univers unique de Radiohead avec une performance qui vous fera vibrer. \n\n\n\n\n\n\n\n\n\n\n\n\n\n\n\n\n\n\n\n\n\n\n\n\nACHETEZ VOS BILLETS
URL:https://theblacklab.fr/agenda/the-bends-anniversary-no-suprises-tribute-radiohead/
CATEGORIES:ÉVÉNEMENT,SLIDER
ATTACH;FMTTYPE=image/png:https://theblacklab.fr/BL/wp-content/uploads/2025/01/radiohead-tribue-slider.png
END:VEVENT
END:VCALENDAR