BEGIN:VCALENDAR
VERSION:2.0
PRODID:-//THE BLACK LAB - ECPv6.6.4//NONSGML v1.0//EN
CALSCALE:GREGORIAN
METHOD:PUBLISH
X-ORIGINAL-URL:https://theblacklab.fr
X-WR-CALDESC:évènements pour THE BLACK LAB
REFRESH-INTERVAL;VALUE=DURATION:PT1H
X-Robots-Tag:noindex
X-PUBLISHED-TTL:PT1H
BEGIN:VTIMEZONE
TZID:Europe/Paris
BEGIN:DAYLIGHT
TZOFFSETFROM:+0100
TZOFFSETTO:+0200
TZNAME:CEST
DTSTART:20250330T010000
END:DAYLIGHT
BEGIN:STANDARD
TZOFFSETFROM:+0200
TZOFFSETTO:+0100
TZNAME:CET
DTSTART:20251026T010000
END:STANDARD
END:VTIMEZONE
BEGIN:VEVENT
DTSTART;TZID=Europe/Paris:20250318T193000
DTEND;TZID=Europe/Paris:20250318T233000
DTSTAMP:20260420T164406
CREATED:20250212T172553Z
LAST-MODIFIED:20250212T172555Z
UID:6536-1742326200-1742340600@theblacklab.fr
SUMMARY:THE GOOD\, THE BAD & THE LOCAL : Jay + Joseph & Bros + Request Failed
DESCRIPTION:Concert gratuit dans le cadre du dispositif de soutien à la pratique amateur THE GOOD THE BAD AND THE LOCALHeures prévisionnelles de passage : \n\n\n\nJay – 20h \n\n\n\nJoseph & Bros – 20h45 \n\n\n\nRequest Failed – 21h30 \n\n\n\n \n\n\n\n\n\n\n\n \n\n\n\n\n\n\n\n\n\n\n\n\nEntrée gratuite toute la soirée !
URL:https://theblacklab.fr/agenda/the-good-the-bad-the-local-jay-joseph-bros-request-failed/
CATEGORIES:ÉVÉNEMENT
ATTACH;FMTTYPE=image/png:https://theblacklab.fr/BL/wp-content/uploads/2024/02/GOODBADLOCAL-slider.png
END:VEVENT
END:VCALENDAR