BEGIN:VCALENDAR
VERSION:2.0
PRODID:-//THE BLACK LAB - ECPv6.6.4//NONSGML v1.0//EN
CALSCALE:GREGORIAN
METHOD:PUBLISH
X-ORIGINAL-URL:https://theblacklab.fr
X-WR-CALDESC:évènements pour THE BLACK LAB
REFRESH-INTERVAL;VALUE=DURATION:PT1H
X-Robots-Tag:noindex
X-PUBLISHED-TTL:PT1H
BEGIN:VTIMEZONE
TZID:Europe/Paris
BEGIN:DAYLIGHT
TZOFFSETFROM:+0100
TZOFFSETTO:+0200
TZNAME:CEST
DTSTART:20250330T010000
END:DAYLIGHT
BEGIN:STANDARD
TZOFFSETFROM:+0200
TZOFFSETTO:+0100
TZNAME:CET
DTSTART:20251026T010000
END:STANDARD
END:VTIMEZONE
BEGIN:VEVENT
DTSTART;TZID=Europe/Paris:20250321T200000
DTEND;TZID=Europe/Paris:20250321T233000
DTSTAMP:20260420T162611
CREATED:20250108T110242Z
LAST-MODIFIED:20250108T110322Z
UID:6431-1742587200-1742599800@theblacklab.fr
SUMMARY:KLONE + THE OLD DEAD TREE
DESCRIPTION:KLONE➤ Le surplace est un terme qui n’existe pas chez KLONE. Here Comes The Sun et Le Grand Voyage ont démontré combien le groupe était capable de déployer de sublimes atmosphères aériennes et de tisser des toiles sonores hypnotiques\, armes ultimes pour développer une musique progressive qui repose sur un vrai son de guitare électrique. Rester dans sa zone de confort eut été trop facile. Avec Meanwhile\, Klone remet en avant toute sa science du riff sans jamais renier les acquis obtenus grâce à ses récents albums. L’occasion pour le combo de replacer la saturation au centre des débats. Un travail et une réflexion entamés il y a déjà un moment\, alors que les musiciens sillonnaient les routes européennes et se taillaient une expérience de la scène en acier trempé après être passés par l’Australie et avoir accompagné sur scène des formations comme Leprous ou Devin Townsend Project. Un « grand voyage » qui finira par faire étape aux Etats-Unis (quelques semaines après l’enregistrement de Meanwhile) et au cours duquel Klone ouvrira à de nombreuses reprises pour Pain of Salvation quand il ne sera pas un acteur marquant de la fameuse croisière progressive Cruise To The Edge\, festival se déroulant sur un énorme paquebot. \n\n\n\nTHE OLD DEAD TREE➤ Durant les années 2000\, THE OLD DEAD TREE s’est illustré au sein de la scène metal européenne endonnant près de 200 concerts et en sortant trois albums formant un univers unique alliant musiqueextrême et dark rock-pop\, sublimé par le chant aussi exceptionnel que versatile de Manuel Munoz. \n\n\n\n\n\n\n\n\n\n\n\n\n\n\n\n\n\n\n\n\n\n\n\n\nACHETEZ VOS BILLETS
URL:https://theblacklab.fr/agenda/klone-the-old-dead-tree/
CATEGORIES:ÉVÉNEMENT,SLIDER
ATTACH;FMTTYPE=image/png:https://theblacklab.fr/BL/wp-content/uploads/2025/01/klone-slider.png
END:VEVENT
END:VCALENDAR