BEGIN:VCALENDAR
VERSION:2.0
PRODID:-//THE BLACK LAB - ECPv6.6.4//NONSGML v1.0//EN
CALSCALE:GREGORIAN
METHOD:PUBLISH
X-WR-CALNAME:THE BLACK LAB
X-ORIGINAL-URL:https://theblacklab.fr
X-WR-CALDESC:évènements pour THE BLACK LAB
REFRESH-INTERVAL;VALUE=DURATION:PT1H
X-Robots-Tag:noindex
X-PUBLISHED-TTL:PT1H
BEGIN:VTIMEZONE
TZID:Europe/Paris
BEGIN:DAYLIGHT
TZOFFSETFROM:+0100
TZOFFSETTO:+0200
TZNAME:CEST
DTSTART:20250330T010000
END:DAYLIGHT
BEGIN:STANDARD
TZOFFSETFROM:+0200
TZOFFSETTO:+0100
TZNAME:CET
DTSTART:20251026T010000
END:STANDARD
END:VTIMEZONE
BEGIN:VEVENT
DTSTART;TZID=Europe/Paris:20250324T190000
DTEND;TZID=Europe/Paris:20250324T233000
DTSTAMP:20260420T164040
CREATED:20241111T184904Z
LAST-MODIFIED:20250227T142826Z
UID:6262-1742842800-1742859000@theblacklab.fr
SUMMARY:1000MODS + FRENZEE
DESCRIPTION:En accord avec Garmonbozia Inc.THE BLACK LAB proudly presents \n\n\n\n1000mods – Heavy Psych / Stoner (GRC)Il y a déjà deux ans nous recevions le heaviest groupe de stoner rock européen pour notre plus grand plaisir et ce fut une méga grosse tartine. 1000mods reviennent à la charge en 2025 avec un tout nouvel album aux relents bien heavy : “Cheat Death”. Formés en 2006 à Chiliomódi\, d’où vient leur nom\, les 1000mods ont joué des milliards de centaines de concerts et sont connus pour leur adoration des équipements vintage\, leur son analogique épais et leurs performances scéniques remarquablement passionnées et dévastatrices. C’est donc non sans émotion que nous vous annonçons leur retour à Ouascal en mars prochain. Et comme on a pris l’habitude de vous le dire : be there or be square. \n\n\n\n\n\n\n\n\n\n+ Frenzee (Grc / Aus) as support act : vous aimez le son australien mené tambour battant ? Vous allez adorez Frenzee. \n\n\n\n\n\n\n\n\n\n\n\n\n\n\n\n\n\n\n\n\n\n\n\n\n\n\n\n\n\n\nACHETEZ VOS BILLETS\n\n\n\n\nPour toute revente de tickets merci d’utiliser la plateforme sécurisée de notre partenaire Ticketswap :https://www.ticketswap.fr/organizer/the-black-lab/1e321ecc-26b2-407d-beec-5e622438db8e
URL:https://theblacklab.fr/agenda/1000mods-frenze/
CATEGORIES:ÉVÉNEMENT,SLIDER
ATTACH;FMTTYPE=image/png:https://theblacklab.fr/BL/wp-content/uploads/2024/11/100mods-slider-1.png
END:VEVENT
END:VCALENDAR