BEGIN:VCALENDAR
VERSION:2.0
PRODID:-//THE BLACK LAB - ECPv6.6.4//NONSGML v1.0//EN
CALSCALE:GREGORIAN
METHOD:PUBLISH
X-ORIGINAL-URL:https://theblacklab.fr
X-WR-CALDESC:évènements pour THE BLACK LAB
REFRESH-INTERVAL;VALUE=DURATION:PT1H
X-Robots-Tag:noindex
X-PUBLISHED-TTL:PT1H
BEGIN:VTIMEZONE
TZID:Europe/Paris
BEGIN:DAYLIGHT
TZOFFSETFROM:+0100
TZOFFSETTO:+0200
TZNAME:CEST
DTSTART:20250330T010000
END:DAYLIGHT
BEGIN:STANDARD
TZOFFSETFROM:+0200
TZOFFSETTO:+0100
TZNAME:CET
DTSTART:20251026T010000
END:STANDARD
END:VTIMEZONE
BEGIN:VEVENT
DTSTART;TZID=Europe/Paris:20250330T180000
DTEND;TZID=Europe/Paris:20250330T233000
DTSTAMP:20260420T164304
CREATED:20241127T104644Z
LAST-MODIFIED:20250316T150737Z
UID:6315-1743357600-1743377400@theblacklab.fr
SUMMARY:GREENLEAF + HIGH DESERT QUEEN
DESCRIPTION:En accord avec Garmonbozia Inc.THE BLACK LAB proudly presents \n\n\n\nGREENLEAF – Stoner (SWE) – 19h45 on stage \n\n\n\nNi plus ni moins que le monstrueux side project qui a vu passer en son sein des membres de Dozer\, Lowrider\, Truckfighters\, Demon Cleaner… Pour grands fans de desert rock bien roulé et à peine quelques jours après la venue de 1000mods. Elle est pas belle la vie ? As usual : be there or be square. \n\n\n\nCette vidéo est fantastique\, ce morceau un vrai régal : \n\n\n\n\n\n\n\n\n\nHIGH DESERT QUEEN – Texas Desert Rock – 18h30 on stage \n\n\n\nTexas Desert Rock est une appellation géographique hautement contrôlée que vous pourrez vérifier par vous même. \n\n\n\n\n\n\n\n\n\n\n\n\n\n\n\n\n\n\n\n\n\n\n\n\n\n\n\n\n\n\nACHETEZ VOS BILLETS\n\n\n\n\nPour toute revente de tickets merci d’utiliser la plateforme sécurisée de notre partenaire Ticketswap :https://www.ticketswap.fr/organizer/the-black-lab/1e321ecc-26b2-407d-beec-5e622438db8e
URL:https://theblacklab.fr/agenda/greenleaf-high-desert-queen/
CATEGORIES:ÉVÉNEMENT,SLIDER
ATTACH;FMTTYPE=image/png:https://theblacklab.fr/BL/wp-content/uploads/2024/11/Greenleaf-slider.png
END:VEVENT
END:VCALENDAR