BEGIN:VCALENDAR
VERSION:2.0
PRODID:-//THE BLACK LAB - ECPv6.6.4//NONSGML v1.0//EN
CALSCALE:GREGORIAN
METHOD:PUBLISH
X-ORIGINAL-URL:https://theblacklab.fr
X-WR-CALDESC:évènements pour THE BLACK LAB
REFRESH-INTERVAL;VALUE=DURATION:PT1H
X-Robots-Tag:noindex
X-PUBLISHED-TTL:PT1H
BEGIN:VTIMEZONE
TZID:Europe/Paris
BEGIN:DAYLIGHT
TZOFFSETFROM:+0100
TZOFFSETTO:+0200
TZNAME:CEST
DTSTART:20250330T010000
END:DAYLIGHT
BEGIN:STANDARD
TZOFFSETFROM:+0200
TZOFFSETTO:+0100
TZNAME:CET
DTSTART:20251026T010000
END:STANDARD
END:VTIMEZONE
BEGIN:VEVENT
DTSTART;TZID=Europe/Paris:20250404T190000
DTEND;TZID=Europe/Paris:20250404T233000
DTSTAMP:20260420T170841
CREATED:20250109T162311Z
LAST-MODIFIED:20250323T162603Z
UID:6448-1743793200-1743809400@theblacklab.fr
SUMMARY:THE EXPLOITED + CHARGE 69
DESCRIPTION:THE BLACK LAB proudly presents \n\n\n\nTHE EXPLOITED – punk legend (UK) \n\n\n\nTrois ans après leur passage et les traces indélébiles qu’a laissé leur concert sur nos murs et l’âme de la salle\, keuponnes / keupons\, voici The Exploited again! Formé en juin 79 à Edimburgh en Écosse\, The Exploited est rapidement devenu le fer de lance de la seconde vague punk du Royaume-Uni avec la sortie de leur cultissime 1er album “Punk’s not dead”. Leur marque de fabrique est un son plus radical\, plus agressif\, limite metal sur les derniers albums… Des shows furieux\, des revendications anarchistes et un appel récurent aux émeutes ont fait naître la légende. Qui n’a pas en tête le crâne humain et sa crête ou l’un de leurs hymnes tels “Army Life”\, “Sex and Violence” ou encore plus récemment “Fuck the system” ? \n\n\n\n+ CHARGE 69 – punk légende (FR)Fers de lance de la scène punk française depuis 1993\, nous sommes très heureux de vous annoncer que c’est Charge 69 qui ouvrira le bal des agités du 4 avril 2025 @ THE BLACK LAB. \n\n\n\n+ stand Zikenstock (Festival Punk @ Le Cateau-Cambrésis les 8\, 9 et 10 mai 2025) \n\n\n\n———————————————————————————————————— \n\n\n\nKid 0€ / Nice price 15€ / Low budget 20€ / Regular 25€ (30€ sur place) \n\n\n\n° Tarif KID : 0€ (tarif équivalent en prévente et sur place dans la limite des places disponibles)Entrée gratuite pour les moins de 13 ans obligatoirement accompagnés d’un adulte et porteurs de protections auditives adaptéesJustificatif : carte d’identité \n\n\n\n° Tarif NICE PRICE : 15€ (tarif équivalent en prévente et sur place dans la limite des places disponibles)Tarif très réduit pour les moins de 16 ans\, les étudiants\, les demandeurs d’emploi\, les bénéficiaires de minima sociaux et détenteurs de la carte PASS CULTUREJustificatifs : carte d’identité\, carte étudiante\, attestation France Travail\, attestation d’inscription aux différents organismes sociaux \n\n\n\n° Tarif LOW BUDGET : 20€ (tarif équivalent en prévente et sur place dans la limite des places disponibles)Tarif réduit pour les personnes salariées\, indépendantes ou retraitées dont les revenus mensuels sont inférieurs à 1400€ nets qui ne peuvent bénéficier du tarif NICE PRICEJustificatifs : attestation de revenus comme un bulletin de paie récent\, avis d’impôts n-1\, relevé de pension… \n\n\n\n° Tarif REGULAR : 25€ en prévente / 30€ sur place dans la limite des places disponibles \n\n\n\nPour toute revente de tickets merci d’utiliser la plateforme sécurisée de notre partenaire Ticketswap :https://www.ticketswap.fr/…/1e321ecc-26b2-407d-beec…—Avec le précieux soutien de @rapid_flyer pour tous nos événements @ THE BLACK LAB—La brasserie Moulins d’Ascq est fournisseur officiel des backstages de THE BLACK LAB et les artistes nous remercient tous les jours \n\n\n\n\n\n\n\n\n\n\n\n\n\n\n\n\n\n\n\n\n\n\n\n\nSOLD OUT
URL:https://theblacklab.fr/agenda/the-exploited-2/
CATEGORIES:ÉVÉNEMENT,SLIDER
ATTACH;FMTTYPE=image/png:https://theblacklab.fr/BL/wp-content/uploads/2025/01/Exploited-slider-2.png
END:VEVENT
END:VCALENDAR