BEGIN:VCALENDAR
VERSION:2.0
PRODID:-//THE BLACK LAB - ECPv6.6.4//NONSGML v1.0//EN
CALSCALE:GREGORIAN
METHOD:PUBLISH
X-WR-CALNAME:THE BLACK LAB
X-ORIGINAL-URL:https://theblacklab.fr
X-WR-CALDESC:évènements pour THE BLACK LAB
REFRESH-INTERVAL;VALUE=DURATION:PT1H
X-Robots-Tag:noindex
X-PUBLISHED-TTL:PT1H
BEGIN:VTIMEZONE
TZID:Europe/Paris
BEGIN:DAYLIGHT
TZOFFSETFROM:+0100
TZOFFSETTO:+0200
TZNAME:CEST
DTSTART:20250330T010000
END:DAYLIGHT
BEGIN:STANDARD
TZOFFSETFROM:+0200
TZOFFSETTO:+0100
TZNAME:CET
DTSTART:20251026T010000
END:STANDARD
END:VTIMEZONE
BEGIN:VEVENT
DTSTART;TZID=Europe/Paris:20250408T193000
DTEND;TZID=Europe/Paris:20250408T233000
DTSTAMP:20260420T150445
CREATED:20250316T213127Z
LAST-MODIFIED:20250316T213128Z
UID:6622-1744140600-1744155000@theblacklab.fr
SUMMARY:THE GOOD\, THE BAD & THE LOCAL : Le Bord’hell + Madjora
DESCRIPTION:THE GOOD THE BAD AND THE LOCALSoirée entièrement dédiée au métal ! \n\n\n\nMadjora : groupe de metal fusionnant énergie et atmosphères lourdes\, viens écouter leurs compositions et leur EP disponible sur les plateformes d’écoutehttps://www.facebook.com/MADJORA/ \n\n\n\nLe Bord’hell : si tu aimes le métal\, le punk\, un truc qui sent un peu la bière et la sueur\, qui fait secouer les cheveux de ceux qui en ont encore et fait travailler les articulations\, viens découvrir ce metal cover bandhttps://www.facebook.com/lebordhell/ \n\n\n\n\n\n\n\n\n\n\n\n \n\n\n\n\n\n\n\n\n\n\n\n\nEntrée gratuite toute la soirée !
URL:https://theblacklab.fr/agenda/the-good-the-bad-the-local-le-bordhell-madjora/
CATEGORIES:ÉVÉNEMENT
ATTACH;FMTTYPE=image/png:https://theblacklab.fr/BL/wp-content/uploads/2024/02/GOODBADLOCAL-slider.png
END:VEVENT
END:VCALENDAR