BEGIN:VCALENDAR
VERSION:2.0
PRODID:-//THE BLACK LAB - ECPv6.6.4//NONSGML v1.0//EN
CALSCALE:GREGORIAN
METHOD:PUBLISH
X-ORIGINAL-URL:https://theblacklab.fr
X-WR-CALDESC:évènements pour THE BLACK LAB
REFRESH-INTERVAL;VALUE=DURATION:PT1H
X-Robots-Tag:noindex
X-PUBLISHED-TTL:PT1H
BEGIN:VTIMEZONE
TZID:Europe/Paris
BEGIN:DAYLIGHT
TZOFFSETFROM:+0100
TZOFFSETTO:+0200
TZNAME:CEST
DTSTART:20250330T010000
END:DAYLIGHT
BEGIN:STANDARD
TZOFFSETFROM:+0200
TZOFFSETTO:+0100
TZNAME:CET
DTSTART:20251026T010000
END:STANDARD
END:VTIMEZONE
BEGIN:VEVENT
DTSTART;TZID=Europe/Paris:20250422T193000
DTEND;TZID=Europe/Paris:20250422T233000
DTSTAMP:20260420T164237
CREATED:20250316T213704Z
LAST-MODIFIED:20250316T213705Z
UID:6625-1745350200-1745364600@theblacklab.fr
SUMMARY:THE GOOD\, THE BAD & THE LOCAL : Stuck in Yesterday + Flashin' News
DESCRIPTION:Stuck in Yesterday (pop punk from Lille) et Flashin’ News (punk rock from Lille) au Black Lab dans le cadre d’une soirée « The Good\, the Bad\, and the Local ». Commence bien ta semaine avec une bonne bière\, dans une salle incroyable\, avec une bonne dose de punk ! \n\n\n\nSTUCK IN YESTERDAY (POP-PUNK FROM LILLE)https://linktr.ee/stuckinyesterdayhttps://open.spotify.com/…/track/6y1xuglOrCL9kTZFqvn7JC… \n\n\n\nFLASHIN’ NEWS (PUNK ROCK FROM LILLE)https://www.instagram.com/flashinnewshttps://open.spotify.com/…/7DPw33KnYzCz58nU1hKcTx… \n\n\n\n\n\n\n\n \n\n\n\n\n\n\n\n \n\n\n\n\n\n\n\n\n\n\n\n\nEntrée gratuite toute la soirée !
URL:https://theblacklab.fr/agenda/the-good-the-bad-the-local-stuck-in-yesterday-flashin-news/
CATEGORIES:ÉVÉNEMENT
ATTACH;FMTTYPE=image/png:https://theblacklab.fr/BL/wp-content/uploads/2024/02/GOODBADLOCAL-slider.png
END:VEVENT
END:VCALENDAR