BEGIN:VCALENDAR
VERSION:2.0
PRODID:-//THE BLACK LAB - ECPv6.6.4//NONSGML v1.0//EN
CALSCALE:GREGORIAN
METHOD:PUBLISH
X-WR-CALNAME:THE BLACK LAB
X-ORIGINAL-URL:https://theblacklab.fr
X-WR-CALDESC:évènements pour THE BLACK LAB
REFRESH-INTERVAL;VALUE=DURATION:PT1H
X-Robots-Tag:noindex
X-PUBLISHED-TTL:PT1H
BEGIN:VTIMEZONE
TZID:Europe/Paris
BEGIN:DAYLIGHT
TZOFFSETFROM:+0100
TZOFFSETTO:+0200
TZNAME:CEST
DTSTART:20250330T010000
END:DAYLIGHT
BEGIN:STANDARD
TZOFFSETFROM:+0200
TZOFFSETTO:+0100
TZNAME:CET
DTSTART:20251026T010000
END:STANDARD
END:VTIMEZONE
BEGIN:VEVENT
DTSTART;TZID=Europe/Paris:20250429T193000
DTEND;TZID=Europe/Paris:20250429T233000
DTSTAMP:20260420T134226
CREATED:20250316T214113Z
LAST-MODIFIED:20250316T214114Z
UID:6628-1745955000-1745969400@theblacklab.fr
SUMMARY:THE GOOD\, THE BAD & THE LOCAL : Scrapidoh + Kazeon
DESCRIPTION:Dans le cadre du THE GOOD\, THE BAD AND THE LOCAL : \n\n\n\n> SCRAPIDOH (indie rock\, Be/Fr)Franco-Belgian indie rock inspired by Sebadoh\, Dinosaur Jr\, Weezer\, The Bevis Frond\, Engine Down… \n\n\n\n* https://www.facebook.com/scrapidoh* https://linktr.ee/scrapidoh* https://scrapidoh.bandcamp.com/ \n\n\n\n> KAZEON \n\n\n\nKazeon\, duo de rock alternatif lillois\, fusionne des ambiances sombres avec des riffs explosifs et des refrains puissants dont l’énergie brute et urbaine prend vie sur scène.https://open.spotify.com/…/album/4n49Um9kptyeAaHnqhRlXt…* https://www.facebook.com/kazeonband \n\n\n\n \n\n\n\n\n\n\n\n\n\n\n\n \n\n\n\n\n\n\n\n\n\n\n\n\nEntrée gratuite toute la soirée !
URL:https://theblacklab.fr/agenda/the-good-the-bad-the-local-scrapidoh-kazeon/
CATEGORIES:ÉVÉNEMENT
ATTACH;FMTTYPE=image/png:https://theblacklab.fr/BL/wp-content/uploads/2024/02/GOODBADLOCAL-slider.png
END:VEVENT
END:VCALENDAR