BEGIN:VCALENDAR
VERSION:2.0
PRODID:-//THE BLACK LAB - ECPv6.6.4//NONSGML v1.0//EN
CALSCALE:GREGORIAN
METHOD:PUBLISH
X-WR-CALNAME:THE BLACK LAB
X-ORIGINAL-URL:https://theblacklab.fr
X-WR-CALDESC:évènements pour THE BLACK LAB
REFRESH-INTERVAL;VALUE=DURATION:PT1H
X-Robots-Tag:noindex
X-PUBLISHED-TTL:PT1H
BEGIN:VTIMEZONE
TZID:Europe/Paris
BEGIN:DAYLIGHT
TZOFFSETFROM:+0100
TZOFFSETTO:+0200
TZNAME:CEST
DTSTART:20250330T010000
END:DAYLIGHT
BEGIN:STANDARD
TZOFFSETFROM:+0200
TZOFFSETTO:+0100
TZNAME:CET
DTSTART:20251026T010000
END:STANDARD
END:VTIMEZONE
BEGIN:VEVENT
DTSTART;TZID=Europe/Paris:20250508T190000
DTEND;TZID=Europe/Paris:20250508T233000
DTSTAMP:20260420T135101
CREATED:20240711T105658Z
LAST-MODIFIED:20240711T105924Z
UID:6088-1746730800-1746747000@theblacklab.fr
SUMMARY:THE BLACK LAB TRIBUTE FEST 2025
DESCRIPTION:THE BLACK LAB et SOAX PROD annoncent avec fierté : THE BLACK LAB TRIBUTE FEST 2025  \n\n\n\n LINE UP : JEUDI 8 MAI : Ouverture des portes à 19h19h45 Rage Against the Machine par Bombtracks21h15 Muse par Hypermassive22h45 Linkin Park par MeteoraFin des shows : 00h00 \n\n\n\n VENDREDI 9 MAI : Ouverture des portes à 19h19h45 System of a Down par Chop Suey (UK)21h15 Rammstein par Sonneschein22h45 Slipknot par Early MaggotsFin des shows : 00h00 \n\n\n\n SAMEDI 10 MAI : Ouverture des portes à 19h19h45 Red Hot Chili Peppers par Red Hot Experience21h15 Nirvana par Bleach (IT)22h45 Foo Fighters par Foo Fighters GB (UK)Fin des shows : 00h00 \n\n\n\n—————————————————————————————————— \n\n\n\nJEUDI 8 MAI :>>Rage Against the Machine par Bombtracks. \n\n\n\n>>Muse par Hypermassive.A l’initiative de Charles Vannerum et de Paul Dequeker\, deux fans inconditionnels de Muse\, Hypermassive naît en 2019. L’objectif est de transmettre cette passion commune pour le trio Anglais sur scène. En 2022\, Lucas Linussio les rejoint à la guitare. Ils sont prêts à mettre le feu au The Black Lab Tribute Fest 2025 avec de belles surprises ! Hypermassive c’est le Tribute de référence pour retrouver l’ambiance Muse près de chez soi. Son\, lumière\, jeu de scène\, tout est chorégraphié afin que l’immersion soit totale. Venez vous défouler sur les titres emblématiques comme Hysteria\, Uprising\, Plug In Baby\, Madness tout en n’oubliant pas de faire plaisir aux puristes. Pour tous les fans de Muse\, c’est un événement à ne pas rater ! \n\n\n\n>>Linkin Park par Meteora.METEORA a été formé dans le Nord de la France en 2015 par 5 amis fans de Linkin Park qui se connaissent depuis le collège. METEORA offre un show intense\, interactif et très professionnel\, basé essentiellement sur les premiers albums de Linkin Park\, ceux qui ont propulsé le groupe californien comme étendard de toute une génération marquée par le genre Nu-Metal au début des années 2000. \n\n\n\n—————————————————————————————————— \n\n\n\nPASS  JOURS : Regular 49€ (Nice Price 35€)Profitez de l’accès complet au festival le jeudi\, vendredi et samedi\, pour les 9 concerts.PASS  JOUR : Regular 25€ (Low Budget 20€ / Nice Price 18€ / -13 Ans Gratuit)Profitez de l’accès complet aux 3 concerts le soir de votre choix.ATTENTION  PASS 3 JOURS limités\, il n’y en aura pas pour tout le monde ! \n\n\n\n\n\n\n\n\n\n\n\n\n\n\n\n\n\n\n\n\n\n\n\n\nACHETEZ VOS BILLETS\n\n\n\n\nPour toute revente de tickets merci d’utiliser la plateforme sécurisée de notre partenaire Ticketswap :https://www.ticketswap.fr/organizer/the-black-lab/1e321ecc-26b2-407d-beec-5e622438db8e
URL:https://theblacklab.fr/agenda/the-black-lab-tribute-fest-2025/
CATEGORIES:ÉVÉNEMENT,SLIDER
ATTACH;FMTTYPE=image/png:https://theblacklab.fr/BL/wp-content/uploads/2024/07/TributeFest25-slider.png
END:VEVENT
END:VCALENDAR