BEGIN:VCALENDAR
VERSION:2.0
PRODID:-//THE BLACK LAB - ECPv6.6.4//NONSGML v1.0//EN
CALSCALE:GREGORIAN
METHOD:PUBLISH
X-ORIGINAL-URL:https://theblacklab.fr
X-WR-CALDESC:évènements pour THE BLACK LAB
REFRESH-INTERVAL;VALUE=DURATION:PT1H
X-Robots-Tag:noindex
X-PUBLISHED-TTL:PT1H
BEGIN:VTIMEZONE
TZID:Europe/Paris
BEGIN:DAYLIGHT
TZOFFSETFROM:+0100
TZOFFSETTO:+0200
TZNAME:CEST
DTSTART:20250330T010000
END:DAYLIGHT
BEGIN:STANDARD
TZOFFSETFROM:+0200
TZOFFSETTO:+0100
TZNAME:CET
DTSTART:20251026T010000
END:STANDARD
END:VTIMEZONE
BEGIN:VEVENT
DTSTART;TZID=Europe/Paris:20250601T180000
DTEND;TZID=Europe/Paris:20250601T220000
DTSTAMP:20260420T115729
CREATED:20250303T094031Z
LAST-MODIFIED:20250303T094033Z
UID:6588-1748800800-1748815200@theblacklab.fr
SUMMARY:SUNAMI + HEADBUSSA
DESCRIPTION:Cerbère Coryphée\, Taste of Mind & THE BLACK LAB proudly present : soirée 100% hardcore \n\n\n\nSUNAMI (US)Instagram : https://www.instagram.com/sunami.408/ \n\n\n\nHEADBUSSA (FR)Instagram : https://www.instagram.com/headbussa_hc/ \n\n\n\n+ guest— \n\n\n\n———————————————————————————————————–Tarifs en prévente (hors frais de location) :Kid 0€ / Nice price 10€ / Low budget 15€ / Regular 20€ (25€ sur place)° Tarif KID : 0€ (tarif équivalent en prévente et sur place dans la limite des places disponibles)Entrée gratuite pour les moins de 13 ans obligatoirement accompagnés d’un adulte et porteurs de protections auditives adaptéesJustificatif : carte d’identité \n\n\n\n° Tarif NICE PRICE : 10€ (tarif équivalent en prévente et sur place dans la limite des places disponibles)Tarif très réduit pour les moins de 16 ans\, les étudiants\, les demandeurs d’emploi\, les bénéficiaires de minima sociaux et titulaire du PASS CULTUREJustificatifs : carte d’identité\, carte étudiante\, attestation France Travail\, attestation d’inscription aux différents organismes sociaux \n\n\n\n° Tarif LOW BUDGET : 15€ (tarif équivalent en prévente et sur place dans la limite des places disponibles)Tarif réduit pour les personnes salariées\, indépendantes ou retraitées dont les revenus mensuels sont inférieurs à 1400€ nets qui ne peuvent bénéficier du tarif NICE PRICEJustificatifs : attestation de revenus comme un bulletin de paie récent\, avis d’impôts n-1\, relevé de pension… \n\n\n\n° Tarif REGULAR : 20€ en prévente / 25€ sur place dans la limite des places disponiblesSur Place : Bar cb – cash // petite restauration // snacks salés et sucrés // pas de vestiaires*—€ + 0\,59 de frais de réservation—Avec le précieux soutien de @rapid_flyer pour tous nos événements @ THE BLACK LAB—La brasserie Moulins d’Ascq est fournisseur officiel des backstages de THE BLACK LAB et les artistes nous remercient tous les jours. \n\n\n\n\n\n\n\n\n\n\n\n\n\n\n\n\n\n\n\n\n\n\n\n\nACHETEZ VOS BILLETS
URL:https://theblacklab.fr/agenda/sunami-headbussa/
CATEGORIES:ÉVÉNEMENT,SLIDER
ATTACH;FMTTYPE=image/png:https://theblacklab.fr/BL/wp-content/uploads/2025/03/sunami-slider.png
END:VEVENT
END:VCALENDAR