BEGIN:VCALENDAR
VERSION:2.0
PRODID:-//THE BLACK LAB - ECPv6.6.4//NONSGML v1.0//EN
CALSCALE:GREGORIAN
METHOD:PUBLISH
X-ORIGINAL-URL:https://theblacklab.fr
X-WR-CALDESC:évènements pour THE BLACK LAB
REFRESH-INTERVAL;VALUE=DURATION:PT1H
X-Robots-Tag:noindex
X-PUBLISHED-TTL:PT1H
BEGIN:VTIMEZONE
TZID:Europe/Paris
BEGIN:DAYLIGHT
TZOFFSETFROM:+0100
TZOFFSETTO:+0200
TZNAME:CEST
DTSTART:20250330T010000
END:DAYLIGHT
BEGIN:STANDARD
TZOFFSETFROM:+0200
TZOFFSETTO:+0100
TZNAME:CET
DTSTART:20251026T010000
END:STANDARD
END:VTIMEZONE
BEGIN:VEVENT
DTSTART;TZID=Europe/Paris:20250603T190000
DTEND;TZID=Europe/Paris:20250603T233000
DTSTAMP:20260420T120045
CREATED:20250303T094944Z
LAST-MODIFIED:20250303T094946Z
UID:6592-1748977200-1748993400@theblacklab.fr
SUMMARY:PUBLIC IMAGE LTD (PIL)
DESCRIPTION:(FR)Après avoir été le leader des Sex Pistols\, John Lydon a fondé Public Image Ltd (PiL)\, groupe pionnier du post-punk. Ce dernier considéré comme l’un des plus innovants de tous les temps\, leur musique et leur vision leur ont valu cinq singles et cinq albums classés dans le Top 20 au Royaume-Uni. Avec une formation en constante évolution et un son unique – mêlant rock\, dance\, folk\, pop et dub – Lydon a dirigé le groupe depuis leur premier album ‘First Issue’ en 1978 jusqu’à ‘That What Is Not’ en 1992\, avant une pause de 17 ans. Lydon a réactivé PiL en 2009\, enchaînant les tournées et sortant deux albums salués par la critique : ‘This is PiL’ en 2012\, suivi de ‘What The World Needs Now…’ en 2015. John Lydon\, Lu Edmonds\, Scott Firth et Bruce Smith forment aujourd’hui PiL. Il s’agit de la formation la plus stable de l’histoire du groupe\, qui continue de se réinventer et de prospérer. \n\n\n\n(EN)After fronting the Sex Pistols\, John Lydon formed post-punk originators Public Image Ltd (PiL). Widely regarded as one of the most innovative bands of all time\, their music and vision earned them 5 UK Top 20 Singles and 5 UK Top 20 Albums. With a shifting line-up and unique sound – fusing rock\, dance\, folk\, pop and dub – Lydon guided the band from their debut album ‘First Issue’ in 1978 through to 1992’s ‘That What Is Not’\, before a 17 year hiatus.Lydon reactivated PiL in 2009\, touring extensively and releasing two critically acclaimed albums ‘This is PiL’ in 2012 followed by ‘What The World Needs Now…’ in 2015. John Lydon\, Lu Edmonds\, Scott Firth and Bruce Smith continue as PiL. They are the longest stable line-up in the band’s history and continue to challenge and thrive. \n\n\n\n\n\n\n\n\n\n\n\n\n\n\n\n\n\n\n\n\n\n\n\n\nACHETEZ VOS BILLETS
URL:https://theblacklab.fr/agenda/public-image-ltd-pil/
CATEGORIES:ÉVÉNEMENT,SLIDER
ATTACH;FMTTYPE=image/png:https://theblacklab.fr/BL/wp-content/uploads/2025/03/PIL-slider.png
END:VEVENT
END:VCALENDAR