BEGIN:VCALENDAR
VERSION:2.0
PRODID:-//THE BLACK LAB - ECPv6.6.4//NONSGML v1.0//EN
CALSCALE:GREGORIAN
METHOD:PUBLISH
X-ORIGINAL-URL:https://theblacklab.fr
X-WR-CALDESC:évènements pour THE BLACK LAB
REFRESH-INTERVAL;VALUE=DURATION:PT1H
X-Robots-Tag:noindex
X-PUBLISHED-TTL:PT1H
BEGIN:VTIMEZONE
TZID:Europe/Paris
BEGIN:DAYLIGHT
TZOFFSETFROM:+0100
TZOFFSETTO:+0200
TZNAME:CEST
DTSTART:20250330T010000
END:DAYLIGHT
BEGIN:STANDARD
TZOFFSETFROM:+0200
TZOFFSETTO:+0100
TZNAME:CET
DTSTART:20251026T010000
END:STANDARD
END:VTIMEZONE
BEGIN:VEVENT
DTSTART;TZID=Europe/Paris:20250619T190000
DTEND;TZID=Europe/Paris:20250619T233000
DTSTAMP:20260420T121907
CREATED:20250214T095433Z
LAST-MODIFIED:20250214T095435Z
UID:6538-1750359600-1750375800@theblacklab.fr
SUMMARY:RUSSIAN CIRCLES + ULTHA
DESCRIPTION:Cerbère Coryphée et THE BLACK LAB présentent : \n\n\n\n \n\n\n\n Russian Circles (US/ Post Rock)Au cours de ses sept albums studio précédents\, le trio instrumental post-rock Russian Circles\, basé à Chicago\, a eu une trajectoire sonore mutante et complexe tant dans les sons\, les ambiances et les approches. Avec ‘Gnosis’ leur très attendu 8ième album (conçu et mixé par Kurt Ballou guitariste de Converge) Russian Circles se concentre globalement sur ce que le groupe décrit comme des “morceaux cathartiques”. Comme ce fut le cas pour tant d’artistes à l’époque du COVID\, les obstacles des confinements ont forcé Russian Circles à réévaluer leur processus d’écriture. Plutôt que de créer des chansons à partir d’idées fragmentées\, des morceaux entiers ont été écrits et enregistrés indépendamment avant d’être partagés avec les autres membres. Ce climat et cette nouvelle méthode d’écriture a permis à Russian Circles de créer son album le plus brûlant et intense à ce jour\, un album qui privilégie l’exorcisme de deux années de tension à la mélancolie et à la retenue qui ont souvent caractérisé leurs projets précédents.Bandcamp : https://russiancircles.bandcamp.com/Facebook : https://www.facebook.com/russiancirclesmusic/?locale=fr_FRInstagram : https://www.instagram.com/russiancircles/… \n\n\n\n ULTHA (ALL./ BM)ULTHA est un groupe de black metal composé de cinq musiciens de Cologne\, fondé en 2014 d’après les anciens groupes des membres\, tels que PLANKS\, GOLDUST\, ATKA\, IRA\, etc. dissous. Leur musique peut être décrite comme un hybride de US-Black Metal\, (Funeral) Doom\, Post Punk et musique de film. Si vous pouvez imaginer Léviathan et Empereur faire équipe avec Neurosis et Oranssi Pazuzu pour jouer des chansons par Fields Of The Nephilim\, vous pourriez avoir une idée de ce qu’est le son de Ultha.Bandcamp : https://ultha.bandcamp.com/Facebook : facebook.com/templeofulthaInstagram : Instagram.com/ultha_youexistfornothingtempleofultha.com \n\n\n\n\n\n\n\n\n\n\n\n\n\n\n\n\n\n\n\n\n\n\n\n\nACHETEZ VOS BILLETS
URL:https://theblacklab.fr/agenda/russian-circles-ultha/
CATEGORIES:ÉVÉNEMENT,SLIDER
ATTACH;FMTTYPE=image/png:https://theblacklab.fr/BL/wp-content/uploads/2025/02/Russian-slider.png
END:VEVENT
END:VCALENDAR