BEGIN:VCALENDAR
VERSION:2.0
PRODID:-//THE BLACK LAB - ECPv6.6.4//NONSGML v1.0//EN
CALSCALE:GREGORIAN
METHOD:PUBLISH
X-WR-CALNAME:THE BLACK LAB
X-ORIGINAL-URL:https://theblacklab.fr
X-WR-CALDESC:évènements pour THE BLACK LAB
REFRESH-INTERVAL;VALUE=DURATION:PT1H
X-Robots-Tag:noindex
X-PUBLISHED-TTL:PT1H
BEGIN:VTIMEZONE
TZID:Europe/Paris
BEGIN:DAYLIGHT
TZOFFSETFROM:+0100
TZOFFSETTO:+0200
TZNAME:CEST
DTSTART:20250330T010000
END:DAYLIGHT
BEGIN:STANDARD
TZOFFSETFROM:+0200
TZOFFSETTO:+0100
TZNAME:CET
DTSTART:20251026T010000
END:STANDARD
END:VTIMEZONE
BEGIN:VEVENT
DTSTART;TZID=Europe/Paris:20250624T190000
DTEND;TZID=Europe/Paris:20250624T233000
DTSTAMP:20260420T121701
CREATED:20250225T111205Z
LAST-MODIFIED:20250225T111207Z
UID:6566-1750791600-1750807800@theblacklab.fr
SUMMARY:GOOD RIDDANCE + RESTRAINING ORDER
DESCRIPTION:En accord avec Destiny Tourbooking\, VISIONS\, OxFanzine\, livegigs.de & AWAY FROM LIFE \n\n\n\nVort’n Vis + Genet Records aka Ieper Hardcore Fest& THE BLACK LAB proudly present \n\n\n\nWARM-UP IEPER HARDCORE FEST 2025 \n\n\n\n+ GOOD RIDDANCE – punk hardcore (USA) \n\n\n\n\n\n\n\n\n\n+ RESTRAINING ORDER – hardcore punk (USA) \n\n\n\n\n\n\n\n\n\n \n\n\n\n************************************OFFER FOR IEPER FEST TICKETS OWNERReduced price for people who’ve got a pass (1\, 2 or 3 days) for next Ieper Hardcore FestBuy it presale and show your Ieper Fest ticket at THE BLACK LAB entrance\, please bring itPRESALES ONLY ************************************Warm-up Ieper Hardcore Fest 2025\, c’est à Wasquehal le 24 juin juste avant le Ieper Hardcore Fest qui se déroulera les 4\, 5 et 6 juillet 2025 en Belgique à Ypres downtown\, check la prog\, une tuerie :https://fb.me/e/8vOkfLs9p************************************ \n\n\n\n° Tarif KID : 0€ (tarif équivalent en prévente et sur place dans la limite des places disponibles)Entrée gratuite pour les moins de 13 ans obligatoirement accompagnés d’un adulte et porteurs de protections auditives adaptéesJustificatif : carte d’identité \n\n\n\n° Tarif NICE PRICE : 13€ (tarif équivalent en prévente et sur place dans la limite des places disponibles)Tarif très réduit pour les moins de 16 ans\, les étudiants\, les demandeurs d’emploi\, les bénéficiaires de minima sociaux et titulaire du PASS CULTUREJustificatifs : carte d’identité\, carte étudiante\, attestation France Travail\, attestation d’inscription aux différents organismes sociaux \n\n\n\n° Tarif LOW BUDGET : 18€ (tarif équivalent en prévente et sur place dans la limite des places disponibles)Tarif réduit pour les personnes salariées\, indépendantes ou retraitées dont les revenus mensuels sont inférieurs à 1400€ nets qui ne peuvent bénéficier du tarif NICE PRICEJustificatifs : attestation de revenus comme un bulletin de paie récent\, avis d’impôts n-1\, relevé de pension… \n\n\n\n° Tarif REGULAR : 23€ en prévente / 28€ sur place dans la limite des places disponibles—Pour toute revente de tickets merci d’utiliser la plateforme sécurisée de notre partenaire Ticketswap :https://www.ticketswap.fr/organizer/the-black-lab/…—Avec le précieux soutien de @rapid_flyer pour tous nos événements @ THE BLACK LAB—La brasserie Moulins d’Ascq est fournisseur officiel des backstages de THE BLACK LAB et les artistes nous remercient tous les jours \n\n\n\n\n\n\n\n\n\n\n\n\n\n\n\n\n\n\n\n\n\n\n\n\nACHETEZ VOS BILLETS
URL:https://theblacklab.fr/agenda/good-riddance-restraining-order/
CATEGORIES:ÉVÉNEMENT,SLIDER
ATTACH;FMTTYPE=image/png:https://theblacklab.fr/BL/wp-content/uploads/2025/02/WARM-UP-IEPER-FEST-slider.png
END:VEVENT
END:VCALENDAR