BEGIN:VCALENDAR
VERSION:2.0
PRODID:-//THE BLACK LAB - ECPv6.6.4//NONSGML v1.0//EN
CALSCALE:GREGORIAN
METHOD:PUBLISH
X-ORIGINAL-URL:https://theblacklab.fr
X-WR-CALDESC:évènements pour THE BLACK LAB
REFRESH-INTERVAL;VALUE=DURATION:PT1H
X-Robots-Tag:noindex
X-PUBLISHED-TTL:PT1H
BEGIN:VTIMEZONE
TZID:Europe/Paris
BEGIN:DAYLIGHT
TZOFFSETFROM:+0100
TZOFFSETTO:+0200
TZNAME:CEST
DTSTART:20250330T010000
END:DAYLIGHT
BEGIN:STANDARD
TZOFFSETFROM:+0200
TZOFFSETTO:+0100
TZNAME:CET
DTSTART:20251026T010000
END:STANDARD
END:VTIMEZONE
BEGIN:VEVENT
DTSTART;TZID=Europe/Paris:20250701T193000
DTEND;TZID=Europe/Paris:20250701T233000
DTSTAMP:20260420T115753
CREATED:20250625T124029Z
LAST-MODIFIED:20250625T124030Z
UID:6756-1751398200-1751412600@theblacklab.fr
SUMMARY:THE GOOD\, THE BAD & THE LOCAL : Sungrave + Natives
DESCRIPTION: Sungrave (Alt Rock\, Post Hardcore)Sungrave est un groupe lillois qui mêle des éléments de rock alternatif et de post-hardcore\, créant un son qui allie ambiances aériennes et puissance brute.Ils puisent dans les sonorités alternatives modernes tout en rendant hommage à la scène rock des années 90. Explorant de manière onirique des thèmes tantôt introspectifs et personnels\, ou de questionnement sur l’avenir.Leur musique oscille entre riffs incisifs et mélodies hypnotiques\, influencés par divers groupes majeurs de la scène rock des années 90-00’s tels que Deftones\, Thrice\, Soundgarden\, Quicksand\, A Perfect Circle\, Biffy Clyro\, ou encore Linkin Park.Leur premier single Mascara est sortie en Novembre dernier. Il est disponible sur YouTube ainsi que sur toutes les plateformes. Spotify: https://open.spotify.com/…/6fdndo0fMJywdO318KDsOm…Facebook: https://www.facebook.com/wearesungraveInstagram: https://www.instagram.com/sungrave_music \n\n\n\n\n\n\n\n\n\n NATIVES (Cover Rock)Des habitués de la maison! Réputé pour ses covers rock et hardrock\, le groupe vous prépare quelques surprises dans leur nouveau set! Envie d’en savoir plus ? Suivez les par ici:Facebook: https://facebook.com/nativesgroupeInstagram: https://www.instagram.com/nativesgroupe/ \n\n\n\n\n\n\n\n\n\n\n\n \n\n\n\n\n\n\n\n\nEntrée gratuite toute la soirée !
URL:https://theblacklab.fr/agenda/the-good-the-bad-the-local-sungrave-natives/
CATEGORIES:ÉVÉNEMENT
ATTACH;FMTTYPE=image/png:https://theblacklab.fr/BL/wp-content/uploads/2024/02/GOODBADLOCAL-slider.png
END:VEVENT
END:VCALENDAR