BEGIN:VCALENDAR
VERSION:2.0
PRODID:-//THE BLACK LAB - ECPv6.6.4//NONSGML v1.0//EN
CALSCALE:GREGORIAN
METHOD:PUBLISH
X-ORIGINAL-URL:https://theblacklab.fr
X-WR-CALDESC:évènements pour THE BLACK LAB
REFRESH-INTERVAL;VALUE=DURATION:PT1H
X-Robots-Tag:noindex
X-PUBLISHED-TTL:PT1H
BEGIN:VTIMEZONE
TZID:Europe/Paris
BEGIN:DAYLIGHT
TZOFFSETFROM:+0100
TZOFFSETTO:+0200
TZNAME:CEST
DTSTART:20250330T010000
END:DAYLIGHT
BEGIN:STANDARD
TZOFFSETFROM:+0200
TZOFFSETTO:+0100
TZNAME:CET
DTSTART:20251026T010000
END:STANDARD
END:VTIMEZONE
BEGIN:VEVENT
DTSTART;TZID=Europe/Paris:20250710T190000
DTEND;TZID=Europe/Paris:20250710T233000
DTSTAMP:20260420T133544
CREATED:20250625T130826Z
LAST-MODIFIED:20250625T225806Z
UID:6763-1752174000-1752190200@theblacklab.fr
SUMMARY:[REPORTÉ] PARACHUTES XXV ANNIVERSARY - TRIBUTE TO COLDPLAY
DESCRIPTION:L’Onde Productions X THE BLACK LAB présentent \n\n\n\nA TRIBUTE TO COLDPLAY\, 25ème anniversaire de l’album Parachutes ! \n\n\n\nPour fêter les 25 ans de l’album Parachutes de Coldplay\, nous vous proposons une soirée inédite\, en deux parties\, qui vous fera voyager à travers l’univers de ce groupe légendaire.  \n\n\n\nUn tribute exceptionnel reprendra l’intégralité de Parachutes\, vous faisant revivre chaque note et chaque émotion de ce chef-d’œuvre. \n\n\n\nEt ce n’est pas tout !  Après ce voyage nostalgique\, laissez-vous emporter par les plus grands hits de Coldplay pour une soirée mémorable. \n\n\n\n 1ère Partie : Parachutes dans son intégralité. Laissez-vous emporter par l’atmosphère intimiste et chaleureuse\, ambiance feutrée et immersive\, chaque note résonnera avec toute l’émotion de cet album culte. \n\n\n\n 2ème Partie : Les plus grands hits de Coldplay. Après cette première partie pleine de nostalgie\, place à l’énergie ! Préparez-vous à danser sur les plus grands succès de Coldplay\, dans une ambiance électrisante : Lumières vives\, pluie de confettis\, invités spéciaux qui viendront sublimer certains morceaux et rendre ce moment encore plus inoubliable ! \n\n\n\n——————————————————————— \n\n\n\nTarifs : Kid Gratuit / Nice price 13€ / Low budget 17€ / Regular 22€ \n\n\n\n° Tarif KID : Gratuit (tarif équivalent en prévente et sur place dans la limite des places disponibles)Entrée gratuite pour les moins de 13 ans obligatoirement accompagnés d’un adulte et porteurs de protections auditives adaptées>Justificatif : carte d’identité \n\n\n\n° Tarif NICE PRICE : 13€ (tarif équivalent en prévente et sur place dans la limite des places disponibles)Tarif très réduit pour les moins de 16 ans\, les étudiants\, les demandeurs d’emploi\, les bénéficiaires de minima sociaux et détenteurs de la carte PASS CULTURE>Justificatifs : carte d’identité\, carte étudiante\, attestation France Travail\, attestation d’inscription aux différents organismes sociaux \n\n\n\n° Tarif LOW BUDGET : 17€ (tarif équivalent en prévente et sur place dans la limite des places disponibles)Tarif réduit pour les personnes salariées\, indépendantes ou retraitées dont les revenus mensuels sont inférieurs à 1400€ nets qui ne peuvent bénéficier du tarif NICE PRICE>Justificatifs : attestation de revenus comme un bulletin de paie récent\, avis d’impôts n-1\, relevé de pension… \n\n\n\n° Tarif REGULAR : 22€ en prévente dans la limite des places disponibles \n\n\n\nN’acceptez jamais les reventes de billets dans les commentaires\, vous pouvez nous contacter pour plus d’informations. \n\n\n\n\n\n\n\n\n\n\n\n\n\n\n\n\n\n\n\n\n\n\n\n\nACHETEZ VOS BILLETS
URL:https://theblacklab.fr/agenda/parachutes-xxv-anniversary-tribute-to-coldplay/
CATEGORIES:ÉVÉNEMENT
ATTACH;FMTTYPE=image/png:https://theblacklab.fr/BL/wp-content/uploads/2025/06/tributecoldplay-slider-report.png
END:VEVENT
END:VCALENDAR