BEGIN:VCALENDAR
VERSION:2.0
PRODID:-//THE BLACK LAB - ECPv6.6.4//NONSGML v1.0//EN
CALSCALE:GREGORIAN
METHOD:PUBLISH
X-ORIGINAL-URL:https://theblacklab.fr
X-WR-CALDESC:évènements pour THE BLACK LAB
REFRESH-INTERVAL;VALUE=DURATION:PT1H
X-Robots-Tag:noindex
X-PUBLISHED-TTL:PT1H
BEGIN:VTIMEZONE
TZID:Europe/Paris
BEGIN:DAYLIGHT
TZOFFSETFROM:+0100
TZOFFSETTO:+0200
TZNAME:CEST
DTSTART:20250330T010000
END:DAYLIGHT
BEGIN:STANDARD
TZOFFSETFROM:+0200
TZOFFSETTO:+0100
TZNAME:CET
DTSTART:20251026T010000
END:STANDARD
END:VTIMEZONE
BEGIN:VEVENT
DTSTART;TZID=Europe/Paris:20250711T190000
DTEND;TZID=Europe/Paris:20250711T233000
DTSTAMP:20260420T133623
CREATED:20250625T131928Z
LAST-MODIFIED:20250625T131929Z
UID:6768-1752260400-1752276600@theblacklab.fr
SUMMARY:BIRDS IN ROW + VILLENOIRE
DESCRIPTION:THE BLACK LAB proudly presents \n\n\n\nBIRDS IN ROW – at the fore-front of post-hardcore (FR)On ne pouvait clairement pas passer à côté\, c’est donc presque à l’arrache qu’on a décidé d’accueillir les phénoménaux Birds In Row dans à peine un mois et demi. Et pourtant on trépigne déjà. Depuis 2009\, leur son incisif\, joué avec les boyaux à l’air et hurlé gorge déployée\, leur a permis de creuser leur trou dans la scène post-hardcore internationale\, reconnus par leurs pairs et les pères de leurs pairs\, de Converge à Touché Amoré\, de The Chariot à Neurosis en passant par Cult of Luna ou Alcest. Si vous connaissez\, vous savez et vous serez là. Pour les autres… : be there or be square ! \n\n\n\n\n\n\n\n\n\nVILLENOIRE – post-hardcore with attitude (BE)Récente formation belge comprenant des membres de Arkangel\, Death Before Disco et electronic)noise(machine\, VILLENOIRE envoie un post-hardcore 90’s related hyper lourd et mélodique à souhait. Leur debut album est enregistré à Laval par Amaury Sauvé (tiens tiens\, cette soirée ne serait-elle pas un accord parfait ?). Pour fans de Cave In\, Thrice\, Brutus\, Everytime I Die et Poison The Well. \n\n\n\n\n\n\n\n\n\n—————————————————————————- \n\n\n\nTarifs en prévente (hors frais de location) : Kid 0€ / Nice price 10€ / Low budget 15€ / Regular 20€ (25€ sur place) \n\n\n\n° Tarif KID : 0€ (tarif équivalent en prévente et sur place dans la limite des places disponibles)Entrée gratuite pour les moins de 13 ans obligatoirement accompagnés d’un adulte et porteurs de protections auditives adaptéesJustificatif : carte d’identité \n\n\n\n° Tarif NICE PRICE : 10€ (tarif équivalent en prévente et sur place dans la limite des places disponibles)Tarif très réduit pour les moins de 16 ans\, les étudiants\, les demandeurs d’emploi\, les bénéficiaires de minima sociaux et titulaire du PASS CULTUREJustificatifs : carte d’identité\, carte étudiante\, attestation France Travail\, attestation d’inscription aux différents organismes sociaux \n\n\n\n° Tarif LOW BUDGET : 15€ (tarif équivalent en prévente et sur place dans la limite des places disponibles)Tarif réduit pour les personnes salariées\, indépendantes ou retraitées dont les revenus mensuels sont inférieurs à 1400€ nets qui ne peuvent bénéficier du tarif NICE PRICEJustificatifs : attestation de revenus comme un bulletin de paie récent\, avis d’impôts n-1\, relevé de pension… \n\n\n\n° Tarif REGULAR : 20€ en prévente / 25€ sur place dans la limite des places disponibles—Pour toute revente de tickets merci d’utiliser la plateforme sécurisée de notre partenaire Ticketswap :https://www.ticketswap.fr/…/1e321ecc-26b2-407d-beec…—Avec le précieux soutien de @rapid_flyer pour tous nos événements @ THE BLACK LAB—La brasserie Moulins d’Ascq est fournisseur officiel des backstages de THE BLACK LAB et les artistes nous remercient tous les jours  \n\n\n\n \n\n\n\n\n\n\n\n\n\n\n\n\n\n\n\n\n\n\n\n\n\n\n\n\nACHETEZ VOS BILLETS
URL:https://theblacklab.fr/agenda/birds-in-row-villenoire/
CATEGORIES:ÉVÉNEMENT,SLIDER
ATTACH;FMTTYPE=image/png:https://theblacklab.fr/BL/wp-content/uploads/2025/06/Birds-in-Row-slider.png
END:VEVENT
END:VCALENDAR