BEGIN:VCALENDAR
VERSION:2.0
PRODID:-//THE BLACK LAB - ECPv6.6.4//NONSGML v1.0//EN
CALSCALE:GREGORIAN
METHOD:PUBLISH
X-WR-CALNAME:THE BLACK LAB
X-ORIGINAL-URL:https://theblacklab.fr
X-WR-CALDESC:évènements pour THE BLACK LAB
REFRESH-INTERVAL;VALUE=DURATION:PT1H
X-Robots-Tag:noindex
X-PUBLISHED-TTL:PT1H
BEGIN:VTIMEZONE
TZID:Europe/Paris
BEGIN:DAYLIGHT
TZOFFSETFROM:+0100
TZOFFSETTO:+0200
TZNAME:CEST
DTSTART:20250330T010000
END:DAYLIGHT
BEGIN:STANDARD
TZOFFSETFROM:+0200
TZOFFSETTO:+0100
TZNAME:CET
DTSTART:20251026T010000
END:STANDARD
END:VTIMEZONE
BEGIN:VEVENT
DTSTART;TZID=Europe/Paris:20250715T193000
DTEND;TZID=Europe/Paris:20250715T233000
DTSTAMP:20260420T133421
CREATED:20250703T130449Z
LAST-MODIFIED:20250703T130450Z
UID:6834-1752607800-1752622200@theblacklab.fr
SUMMARY:THE GOOD\, THE BAD & THE LOCAL : ALSeeD and the ChewB + Mollie Levi
DESCRIPTION: Ça va chauffer au Black Lab !  \n\n\n\nMollie Levi et ALSeeD and the ChewB vous donnent rendez-vous pour un double concert exceptionnel le mardi 15 juillet à 20h\, au Black Lab de Wasquehal. \n\n\n\n Que vous soyez d’humeur à prolonger l’afterwork ou à lancer la soirée comme il se doit\, le Black Lab est l’endroit incontournable pour épicer votre milieu de semaine. \n\n\n\n Mollie LeviChanteuse pop-rock à la voix douce et envoûtante\, Mollie vous embarque dans son univers avec des textes en anglais portés par des guitares aériennes. \n\n\n\n ALSeeD and the ChewBDuo lillois d’alchimistes electro-pop : samples\, guitares et harmonies vocales s’entrelacent pour une expérience sonore irrésistiblement dansante. \n\n\n\n Ambiance électrisante\, une salle qui déchire\, musique enivrante… Tout est réuni pour une soirée dont vous vous souviendrez ! \n\n\n\nVenez nombreux !On compte sur vous pour mettre le feu !  \n\n\n\n\n\n\n\n \n\n\n\n\n\n\n\n\nEntrée gratuite toute la soirée !
URL:https://theblacklab.fr/agenda/the-good-the-bad-the-local-alseed-and-the-chewb-mollie-levi/
CATEGORIES:ÉVÉNEMENT
ATTACH;FMTTYPE=image/png:https://theblacklab.fr/BL/wp-content/uploads/2024/02/GOODBADLOCAL-slider.png
END:VEVENT
END:VCALENDAR