BEGIN:VCALENDAR
VERSION:2.0
PRODID:-//THE BLACK LAB - ECPv6.6.4//NONSGML v1.0//EN
CALSCALE:GREGORIAN
METHOD:PUBLISH
X-WR-CALNAME:THE BLACK LAB
X-ORIGINAL-URL:https://theblacklab.fr
X-WR-CALDESC:évènements pour THE BLACK LAB
REFRESH-INTERVAL;VALUE=DURATION:PT1H
X-Robots-Tag:noindex
X-PUBLISHED-TTL:PT1H
BEGIN:VTIMEZONE
TZID:Europe/Paris
BEGIN:DAYLIGHT
TZOFFSETFROM:+0100
TZOFFSETTO:+0200
TZNAME:CEST
DTSTART:20250330T010000
END:DAYLIGHT
BEGIN:STANDARD
TZOFFSETFROM:+0200
TZOFFSETTO:+0100
TZNAME:CET
DTSTART:20251026T010000
END:STANDARD
END:VTIMEZONE
BEGIN:VEVENT
DTSTART;TZID=Europe/Paris:20250722T170000
DTEND;TZID=Europe/Paris:20250722T233000
DTSTAMP:20260420T133421
CREATED:20250625T132608Z
LAST-MODIFIED:20250625T132608Z
UID:6772-1753203600-1753227000@theblacklab.fr
SUMMARY:BELGIQUE SONIQUE : LA JUNGLE + IT IT ANITA + THE GURU GURU + DUVEL
DESCRIPTION:En accord avec The Link Productions\,DUVEL & THE BLACK LAB proudly present \n\n\n\n/// BELGIQUE SONIQUE /// \n\n\n\nest \n\n\n\n– La Jungle – noise kraut (Mons)Matez cette folie : \n\n\n\n\n\n\n\n\n\n– It it Anita – noise rock (Liège)Vivement : \n\n\n\n\n\n\n\n\n\n– The Guru Guru – noise art (Hasselt)Trop beau : \n\n\n\n\n\n\n\n\n\n— \n\n\n\n> HOPPY HOURS de 17h à 19h.> Concerts de 20h00 à 00h00 (Dernier métro Tourcoing 00h07 / Lille 00h22)> Fin service bar 00h30> Fin des haricots 01h00> Très cool snacking sur place \n\n\n\nGRATUIT ! \n\n\n\nL’entrée est gratuite\, pas les boissons QUOIQUE il y aura pleins de surprises Duvel related \n\n\n\nPour cause de déflagration potentielle\, la Duvel classique pression ne pourra être servie que pendant les HOPPY HOURS. \n\n\n\nL’abus d’alcool est dangereux pour la santé\, pas la musique.—Avec le précieux soutien de @rapid_flyer pour tous nos événements @ THE BLACK LAB \n\n\n\n \n\n\n\n\n\n\n\n\n\n\n\n\n\n\n\n\n\n\n\n\n\n\nGRATUIT TOUTE LA SOIRÉE
URL:https://theblacklab.fr/agenda/belgique-sonique-la-jungle-it-it-anita-the-guru-guru-duvel/
CATEGORIES:ÉVÉNEMENT,SLIDER
ATTACH;FMTTYPE=image/png:https://theblacklab.fr/BL/wp-content/uploads/2025/06/BELGIQUE-SONIQUE-slider.png
END:VEVENT
END:VCALENDAR