BEGIN:VCALENDAR
VERSION:2.0
PRODID:-//THE BLACK LAB - ECPv6.6.4//NONSGML v1.0//EN
CALSCALE:GREGORIAN
METHOD:PUBLISH
X-ORIGINAL-URL:https://theblacklab.fr
X-WR-CALDESC:évènements pour THE BLACK LAB
REFRESH-INTERVAL;VALUE=DURATION:PT1H
X-Robots-Tag:noindex
X-PUBLISHED-TTL:PT1H
BEGIN:VTIMEZONE
TZID:Europe/Paris
BEGIN:DAYLIGHT
TZOFFSETFROM:+0100
TZOFFSETTO:+0200
TZNAME:CEST
DTSTART:20250330T010000
END:DAYLIGHT
BEGIN:STANDARD
TZOFFSETFROM:+0200
TZOFFSETTO:+0100
TZNAME:CET
DTSTART:20251026T010000
END:STANDARD
END:VTIMEZONE
BEGIN:VEVENT
DTSTART;TZID=Europe/Paris:20250909T200000
DTEND;TZID=Europe/Paris:20250909T233000
DTSTAMP:20260420T164543
CREATED:20250904T071808Z
LAST-MODIFIED:20250904T071809Z
UID:6861-1757448000-1757460600@theblacklab.fr
SUMMARY:THE GOOD\, THE BAD & THE LOCAL : SATYAM + CÉRÈS
DESCRIPTION:Mardi 9 septembre nous vous donnons rendez-vous à THE BLACK LAB à Wasquehal dans le cadre de leurs soirée mettant en avant les groupes locaux pour une soirée alliant doom\, death et sludge avec 2 groupes Lillois : \n\n\n\n SATYAM(Blackened doom death metal)► Facebook : facebook.com/Satyam.metalband► YouTube : youtube.com/@satyam.metalband► Instagram : instagram.com/satyam.metalband \n\n\n\n+++++++++++++++ \n\n\n\n CÉRÈS(Post-Sludge metal)► Facebook : facebook.com/profile.php?id=61566825434498► Instagram : instagram.com/ceres.band_ \n\n\n\n+++++++++++++++ \n\n\n\nConcert GratuitBar et restauration sur placeDébut : 20:00 \n\n\n\n\n\n\n\n\n\n\n\n \n\n\n\n\n\n\n\n\nEntrée gratuite toute la soirée !
URL:https://theblacklab.fr/agenda/the-good-the-bad-the-local-satyam-ceres/
CATEGORIES:ÉVÉNEMENT
ATTACH;FMTTYPE=image/png:https://theblacklab.fr/BL/wp-content/uploads/2024/02/GOODBADLOCAL-slider.png
END:VEVENT
END:VCALENDAR