BEGIN:VCALENDAR
VERSION:2.0
PRODID:-//THE BLACK LAB - ECPv6.6.4//NONSGML v1.0//EN
CALSCALE:GREGORIAN
METHOD:PUBLISH
X-WR-CALNAME:THE BLACK LAB
X-ORIGINAL-URL:https://theblacklab.fr
X-WR-CALDESC:évènements pour THE BLACK LAB
REFRESH-INTERVAL;VALUE=DURATION:PT1H
X-Robots-Tag:noindex
X-PUBLISHED-TTL:PT1H
BEGIN:VTIMEZONE
TZID:Europe/Paris
BEGIN:DAYLIGHT
TZOFFSETFROM:+0100
TZOFFSETTO:+0200
TZNAME:CEST
DTSTART:20250330T010000
END:DAYLIGHT
BEGIN:STANDARD
TZOFFSETFROM:+0200
TZOFFSETTO:+0100
TZNAME:CET
DTSTART:20251026T010000
END:STANDARD
END:VTIMEZONE
BEGIN:VEVENT
DTSTART;TZID=Europe/Paris:20250912T190000
DTEND;TZID=Europe/Paris:20250912T233000
DTSTAMP:20260420T164217
CREATED:20241211T203705Z
LAST-MODIFIED:20241212T093753Z
UID:6389-1757703600-1757719800@theblacklab.fr
SUMMARY:SHE PAST AWAY + ULTRA SUNN
DESCRIPTION:SHE PAST AWAY (TK – DARKWAVE) \n\n\n\nShe Past Away revient sur scène avec sa dark-wave et son son revisité des années 80. Une combinaison intelligente de guitare caractéristique de l’ère post-punk et de poésie minimaliste en turc. Une explosion d’anxiété sentimentale\, sorti directement de leur esprit à la fois nihiliste et émerveillé\, et en tout cas assez courageux pour remettre en question les tabous et l’existence.  \n\n\n\n\n\n\n\n\n\nULTRA SUNN (BE + EBM/POP) \n\n\n\nULTRA SUNN est un groupe EBM/Coldwave/New Beat contemporain originaire de Bruxelles\, en Belgique\, formé fin 2019 par le frontman et multi-instrumentiste Sam Huge et la claviériste/productrice Gaelle Souflet. En 2023\, ils sont rejoints sur scène par le claviériste et percussionniste Alexis Andrigo. ULTRA SUNN exprime une envie de modernité à travers ses thèmes\, son approche novatrice des sons et ses collaborations (Kontravoid\, Kris Baha\, Curses\, Sarin) tout en étant les héritiers du célèbre Sound Of Belgium et de l’EBM classique. \n\n\n\n\n\n\n\n\n\n\n\n\n\n\n\n\n\n\n\n\n\n\n\n\n\n\n\n\n\n\nACHETEZ VOS BILLETS
URL:https://theblacklab.fr/agenda/she-past-away-ultra-sunn/
CATEGORIES:ÉVÉNEMENT,SLIDER
ATTACH;FMTTYPE=image/png:https://theblacklab.fr/BL/wp-content/uploads/2024/12/SHE-PAST-AWAY-slider.png
END:VEVENT
END:VCALENDAR