BEGIN:VCALENDAR
VERSION:2.0
PRODID:-//THE BLACK LAB - ECPv6.6.4//NONSGML v1.0//EN
CALSCALE:GREGORIAN
METHOD:PUBLISH
X-WR-CALNAME:THE BLACK LAB
X-ORIGINAL-URL:https://theblacklab.fr
X-WR-CALDESC:évènements pour THE BLACK LAB
REFRESH-INTERVAL;VALUE=DURATION:PT1H
X-Robots-Tag:noindex
X-PUBLISHED-TTL:PT1H
BEGIN:VTIMEZONE
TZID:Europe/Paris
BEGIN:DAYLIGHT
TZOFFSETFROM:+0100
TZOFFSETTO:+0200
TZNAME:CEST
DTSTART:20250330T010000
END:DAYLIGHT
BEGIN:STANDARD
TZOFFSETFROM:+0200
TZOFFSETTO:+0100
TZNAME:CET
DTSTART:20251026T010000
END:STANDARD
END:VTIMEZONE
BEGIN:VEVENT
DTSTART;TZID=Europe/Paris:20250920T190000
DTEND;TZID=Europe/Paris:20250920T233000
DTSTAMP:20260420T164130
CREATED:20250625T124809Z
LAST-MODIFIED:20250904T115618Z
UID:6759-1758394800-1758411000@theblacklab.fr
SUMMARY:Tribute to DEPECHE MODE + U2 + SIMPLE MINDS
DESCRIPTION:L’Onde Productions X THE BLACK LAB présententMIND2MODE est basé sur trois des groupes de rock de stade les plus emblématiques et populaires : Simple Minds \, U2 et Depeche Mode . Au cours d’un concert de plus de trois heures\, sublimé par des images époustouflantes et reprenant des tubes de plus de cinq décennies de succès\, MIND2MODE offre un spectacle hommage ultime en trois sets distincts. \n\n\n\nDes costumes reproduits aux sons et performances musicalement authentiques\, l’attention portée aux détails par MIND2MODE est incroyable et l’essence\, l’émotion de chaque groupe sont fidèlement reproduits par un incroyable groupe de musiciens du Royaume-Uni\, d’Allemagne et des Pays-Bas. \n\n\n\n—————————————————————— \n\n\n\n \n\n\n\n\n\n\n\n\n\n\n\n\n\n\n\n\n\n\n\n\n\n\n\n\nACHETEZ VOS BILLETS
URL:https://theblacklab.fr/agenda/tribute-to-depeche-mode-u2-simple-minds/
CATEGORIES:ÉVÉNEMENT
ATTACH;FMTTYPE=image/png:https://theblacklab.fr/BL/wp-content/uploads/2025/06/tribute-slider.png
END:VEVENT
END:VCALENDAR