BEGIN:VCALENDAR
VERSION:2.0
PRODID:-//THE BLACK LAB - ECPv6.6.4//NONSGML v1.0//EN
CALSCALE:GREGORIAN
METHOD:PUBLISH
X-WR-CALNAME:THE BLACK LAB
X-ORIGINAL-URL:https://theblacklab.fr
X-WR-CALDESC:évènements pour THE BLACK LAB
REFRESH-INTERVAL;VALUE=DURATION:PT1H
X-Robots-Tag:noindex
X-PUBLISHED-TTL:PT1H
BEGIN:VTIMEZONE
TZID:Europe/Paris
BEGIN:DAYLIGHT
TZOFFSETFROM:+0100
TZOFFSETTO:+0200
TZNAME:CEST
DTSTART:20250330T010000
END:DAYLIGHT
BEGIN:STANDARD
TZOFFSETFROM:+0200
TZOFFSETTO:+0100
TZNAME:CET
DTSTART:20251026T010000
END:STANDARD
END:VTIMEZONE
BEGIN:VEVENT
DTSTART;TZID=Europe/Paris:20251005T183000
DTEND;TZID=Europe/Paris:20251005T233000
DTSTAMP:20260420T180358
CREATED:20250906T081654Z
LAST-MODIFIED:20250919T083507Z
UID:6872-1759689000-1759707000@theblacklab.fr
SUMMARY:DIRTY SOUND MAGNET
DESCRIPTION:En accord avec Garmonbozia Inc\, Cerbère Coryphée et THE BLACK LAB proudly present: —DIRTY SOUND MAGNET (Suisse / Psych Rock\, Blues Rock\, Progressive Rock)Avec un set exceptionnel de plus de deux heures\, le groupe promet une expérience scénique inoubliable. Dirty Sound Magnet est la sensation rock du moment\, enchaînant les concerts à guichets fermés dans toute l’Europe et au-delà. \n\n\n\nAvec plus de 500 concerts à travers l’Europe\, le Royaume-Uni et le Mexique\, trois albums studio et un captivant album live\, le tout depuis 2017\, le groupe suisse Dirty Sound Magnet est une force du rock inarrêtable et indomptable. Grâce à une musique unique et des performances live hypnotisantes et explosives\, le groupe a conquis le public du monde entier. Leur show est imprévisible : une présence scénique chamanique\, un charisme de rockstar\, une virtuosité instrumentale\, des textes poétiques\, et une dynamique envoûtante. Attendez-vous à l’inattendu. Bandcamp : https://dirtysoundmagnet.bandcamp.com/musicYoutube : https://www.youtube.com/watch?v=uU9iONip5c0Facebook : https://www.facebook.com/dirtysoundmagnet/?locale=fr_FRInstagram : https://www.instagram.com/dirtysoundmagnet/?hl=fr  \n\n\n\n \n\n\n\n\n\n\n\n\n\n\n\n\n\n\n\n\n\n\n\n\n\n\n\n\nACHETEZ VOS BILLETS
URL:https://theblacklab.fr/agenda/dirty-sound-magnet/
CATEGORIES:ÉVÉNEMENT,SLIDER
ATTACH;FMTTYPE=image/png:https://theblacklab.fr/BL/wp-content/uploads/2025/09/DSM-slider.png
END:VEVENT
END:VCALENDAR