BEGIN:VCALENDAR
VERSION:2.0
PRODID:-//THE BLACK LAB - ECPv6.6.4//NONSGML v1.0//EN
CALSCALE:GREGORIAN
METHOD:PUBLISH
X-ORIGINAL-URL:https://theblacklab.fr
X-WR-CALDESC:évènements pour THE BLACK LAB
REFRESH-INTERVAL;VALUE=DURATION:PT1H
X-Robots-Tag:noindex
X-PUBLISHED-TTL:PT1H
BEGIN:VTIMEZONE
TZID:Europe/Paris
BEGIN:DAYLIGHT
TZOFFSETFROM:+0100
TZOFFSETTO:+0200
TZNAME:CEST
DTSTART:20250330T010000
END:DAYLIGHT
BEGIN:STANDARD
TZOFFSETFROM:+0200
TZOFFSETTO:+0100
TZNAME:CET
DTSTART:20251026T010000
END:STANDARD
END:VTIMEZONE
BEGIN:VEVENT
DTSTART;TZID=Europe/Paris:20251021T200000
DTEND;TZID=Europe/Paris:20251021T233000
DTSTAMP:20260420T175914
CREATED:20250918T202835Z
LAST-MODIFIED:20250918T202836Z
UID:6905-1761076800-1761089400@theblacklab.fr
SUMMARY:THE GOOD\, THE BAD & THE LOCAL : Cryptide + Necroshade
DESCRIPTION: MARDI 21 OCTOBRE – THE BLACK LAB CRYPTIDE (Thrash Metal – Lille)NECROSHADE (Death Metal – Lille – 1ère date !) \n\n\n\nEntrée gratuite – 20h – WasquehalSoutenez la scène locale ! “The Good\, The Band and The Local”La pratique amateur dans toute sa splendeur \n\n\n\n\n\n\n\n\n\n\n\n \n\n\n\n\n\n\n\n\nEntrée gratuite toute la soirée !
URL:https://theblacklab.fr/agenda/the-good-the-bad-the-local-cryptide-necroshade/
CATEGORIES:ÉVÉNEMENT
ATTACH;FMTTYPE=image/png:https://theblacklab.fr/BL/wp-content/uploads/2024/02/GOODBADLOCAL-slider.png
END:VEVENT
END:VCALENDAR