BEGIN:VCALENDAR
VERSION:2.0
PRODID:-//THE BLACK LAB - ECPv6.6.4//NONSGML v1.0//EN
CALSCALE:GREGORIAN
METHOD:PUBLISH
X-WR-CALNAME:THE BLACK LAB
X-ORIGINAL-URL:https://theblacklab.fr
X-WR-CALDESC:évènements pour THE BLACK LAB
REFRESH-INTERVAL;VALUE=DURATION:PT1H
X-Robots-Tag:noindex
X-PUBLISHED-TTL:PT1H
BEGIN:VTIMEZONE
TZID:Europe/Paris
BEGIN:DAYLIGHT
TZOFFSETFROM:+0100
TZOFFSETTO:+0200
TZNAME:CEST
DTSTART:20250330T010000
END:DAYLIGHT
BEGIN:STANDARD
TZOFFSETFROM:+0200
TZOFFSETTO:+0100
TZNAME:CET
DTSTART:20251026T010000
END:STANDARD
END:VTIMEZONE
BEGIN:VEVENT
DTSTART;TZID=Europe/Paris:20251029T190000
DTEND;TZID=Europe/Paris:20251029T233000
DTSTAMP:20260420T175741
CREATED:20251007T115730Z
LAST-MODIFIED:20251007T120251Z
UID:6957-1761764400-1761780600@theblacklab.fr
SUMMARY:INHUMATE + release TEIGNE + TRAVOLTA + THUMBSUCKER
DESCRIPTION:Il ne pouvait en être autrement ! \n\n\n\nLes terribles INHUMATE viendront nous régaler une dernière fois dans les hauts de France avant de (se) terminer à Strasbourg en novembre pour leur dernière date ever. \n\n\n\nPour se faire We’re Not Worthy en collaboration avec THE BLACK LAB\, déclare cette soirée 100% Grindcore. \n\n\n\nTEIGNE viendra également présenter son 1er album ” Resilience ” Release Party accompagné de son label ” Loner cult “ \n\n\n\n \n\n\n\n\n\n\n\n\n\n\n\n\n\n\n\n\n\n\n\n\n\n\n\n\nACHETEZ VOS BILLETS
URL:https://theblacklab.fr/agenda/inhumate/
CATEGORIES:ÉVÉNEMENT,SLIDER
ATTACH;FMTTYPE=image/png:https://theblacklab.fr/BL/wp-content/uploads/2025/10/Facebook-Event-01.png
END:VEVENT
END:VCALENDAR