BEGIN:VCALENDAR
VERSION:2.0
PRODID:-//THE BLACK LAB - ECPv6.6.4//NONSGML v1.0//EN
CALSCALE:GREGORIAN
METHOD:PUBLISH
X-ORIGINAL-URL:https://theblacklab.fr
X-WR-CALDESC:évènements pour THE BLACK LAB
REFRESH-INTERVAL;VALUE=DURATION:PT1H
X-Robots-Tag:noindex
X-PUBLISHED-TTL:PT1H
BEGIN:VTIMEZONE
TZID:Europe/Paris
BEGIN:DAYLIGHT
TZOFFSETFROM:+0100
TZOFFSETTO:+0200
TZNAME:CEST
DTSTART:20250330T010000
END:DAYLIGHT
BEGIN:STANDARD
TZOFFSETFROM:+0200
TZOFFSETTO:+0100
TZNAME:CET
DTSTART:20251026T010000
END:STANDARD
END:VTIMEZONE
BEGIN:VEVENT
DTSTART;TZID=Europe/Paris:20251126T193000
DTEND;TZID=Europe/Paris:20251126T233000
DTSTAMP:20260420T193136
CREATED:20251106T160120Z
LAST-MODIFIED:20251107T155125Z
UID:7045-1764185400-1764199800@theblacklab.fr
SUMMARY:CACHEMIRE + CASABLANCA DRIVERS + SKINNY BAMBIES
DESCRIPTION:Soirée Rock du festival Le Père Noël est il un Rocker ?avec les concerts sulfureux de : \n\n\n\n– CACHEMIRE– CASABLANCA DRIVERS– SKINNY BAMBIES \n\n\n\n@ THE BLACK LAB8 Rue des Champs\, 59290 Wasquehal \n\n\n\n\n\n\n\n\n\n\n\n\n\n\n\n\n\n\n\n\nACHETEZ VOS BILLETS
URL:https://theblacklab.fr/agenda/soiree-rock-cachemire-le-pere-noel-est-il-un-rocker/
CATEGORIES:ÉVÉNEMENT,SLIDER
ATTACH;FMTTYPE=image/png:https://theblacklab.fr/BL/wp-content/uploads/2025/11/CACHEMIRE-2-scaled.png
END:VEVENT
END:VCALENDAR