BEGIN:VCALENDAR
VERSION:2.0
PRODID:-//THE BLACK LAB - ECPv6.6.4//NONSGML v1.0//EN
CALSCALE:GREGORIAN
METHOD:PUBLISH
X-ORIGINAL-URL:https://theblacklab.fr
X-WR-CALDESC:évènements pour THE BLACK LAB
REFRESH-INTERVAL;VALUE=DURATION:PT1H
X-Robots-Tag:noindex
X-PUBLISHED-TTL:PT1H
BEGIN:VTIMEZONE
TZID:Europe/Paris
BEGIN:DAYLIGHT
TZOFFSETFROM:+0100
TZOFFSETTO:+0200
TZNAME:CEST
DTSTART:20250330T010000
END:DAYLIGHT
BEGIN:STANDARD
TZOFFSETFROM:+0200
TZOFFSETTO:+0100
TZNAME:CET
DTSTART:20251026T010000
END:STANDARD
END:VTIMEZONE
BEGIN:VEVENT
DTSTART;TZID=Europe/Paris:20251205T190000
DTEND;TZID=Europe/Paris:20251205T233000
DTSTAMP:20260420T205648
CREATED:20250505T120833Z
LAST-MODIFIED:20251119T130453Z
UID:6702-1764961200-1764977400@theblacklab.fr
SUMMARY:PAIN MAGAZINE
DESCRIPTION:THE BLACK LAB proudly presents \n\n\n\nPAIN MAGAZINEis BIRDS IN ROW x LOUISAHHH x MAELSTROM \n\n\n\nPost-hardcore and industrial techno collide to shape something new. More noise. More guts. More heart. \n\n\n\n+ GUEST \n\n\n\n———————————————————————————————————– \n\n\n\nVendredi 5 décembre 2025Ouverture des portes 19h00Fin des concerts avant le dernier métroFin du son et du service bar 01h30Fin des haricots 02h00 \n\n\n\nBilletterie en ligne ouverte à partir du jeudi 24 avril 2025 à 10h00 \n\n\n\nTarifs en prévente (hors frais de location) : https://ypl.me/K8fKid 0€ / Nice price 10€ / Low budget 15€ / Regular 20€ (25€ sur place) \n\n\n\n° Tarif KID : 0€ (tarif équivalent en prévente et sur place dans la limite des places disponibles)Entrée gratuite pour les moins de 13 ans obligatoirement accompagnés d’un adulte et porteurs de protections auditives adaptéesJustificatif : carte d’identité \n\n\n\n° Tarif NICE PRICE : 10€ (tarif équivalent en prévente et sur place dans la limite des places disponibles)Tarif très réduit pour les moins de 16 ans\, les étudiants\, les demandeurs d’emploi\, les bénéficiaires de minima sociaux et titulaire du PASS CULTUREJustificatifs : carte d’identité\, carte étudiante\, attestation France Travail\, attestation d’inscription aux différents organismes sociaux \n\n\n\n° Tarif LOW BUDGET : 15€ (tarif équivalent en prévente et sur place dans la limite des places disponibles)Tarif réduit pour les personnes salariées\, indépendantes ou retraitées dont les revenus mensuels sont inférieurs à 1400€ nets qui ne peuvent bénéficier du tarif NICE PRICEJustificatifs : attestation de revenus comme un bulletin de paie récent\, avis d’impôts n-1\, relevé de pension… \n\n\n\n° Tarif REGULAR : 20€ en prévente / 25€ sur place dans la limite des places disponibles—Pour toute revente de tickets merci d’utiliser la plateforme sécurisée de notre partenaire Ticketswap :https://www.ticketswap.fr/organizer/the-black-lab/…—Avec le précieux soutien de @rapid_flyer pour tous nos événements @ THE BLACK LAB—La brasserie Moulins d’Ascq est fournisseur officiel des backstages de THE BLACK LAB et les artistes nous remercient tous les jours​ \n\n\n\n\n\n\n\n\n\n\n\n\n\n\n\n\n\n\n\n\n\n\n\n\nACHETEZ VOS BILLETS
URL:https://theblacklab.fr/agenda/frustration-gwendoline-no-filter-canteleu-2/
CATEGORIES:ÉVÉNEMENT,SLIDER
ATTACH;FMTTYPE=image/png:https://theblacklab.fr/BL/wp-content/uploads/2025/05/PAIN-MAGAZINE-REPORTE.png
END:VEVENT
END:VCALENDAR