BEGIN:VCALENDAR
VERSION:2.0
PRODID:-//THE BLACK LAB - ECPv6.6.4//NONSGML v1.0//EN
CALSCALE:GREGORIAN
METHOD:PUBLISH
X-ORIGINAL-URL:https://theblacklab.fr
X-WR-CALDESC:évènements pour THE BLACK LAB
REFRESH-INTERVAL;VALUE=DURATION:PT1H
X-Robots-Tag:noindex
X-PUBLISHED-TTL:PT1H
BEGIN:VTIMEZONE
TZID:Europe/Paris
BEGIN:DAYLIGHT
TZOFFSETFROM:+0100
TZOFFSETTO:+0200
TZNAME:CEST
DTSTART:20250330T010000
END:DAYLIGHT
BEGIN:STANDARD
TZOFFSETFROM:+0200
TZOFFSETTO:+0100
TZNAME:CET
DTSTART:20251026T010000
END:STANDARD
END:VTIMEZONE
BEGIN:VEVENT
DTSTART;TZID=Europe/Paris:20251209T200000
DTEND;TZID=Europe/Paris:20251209T233000
DTSTAMP:20260420T205739
CREATED:20251029T145849Z
LAST-MODIFIED:20251126T144134Z
UID:7026-1765310400-1765323000@theblacklab.fr
SUMMARY:THE GOOD\, THE BAD & THE LOCAL :  JOB DIVISION & THE DEAD DOG
DESCRIPTION:JOB DIVISION & THE DEAD DOG \n\n\n\nRendez-vous le mardi 9 décembre 2025 à 20h au Black Lab (8 rue des champs\, Wasquehal\, à 5 minutes à pieds de l’arrêt de métro Les Près E.Pisani)\, pour assister au concert de JOB DIVISION et THE DEAD DOGS. Entrée gratuite \n\n\n\n \n\n\n\n\n\n\n\n\n\n\n\n\n\n\n\n\n\n\n\n\n\n\nEntrée gratuite toute la soirée !
URL:https://theblacklab.fr/agenda/the-good-the-bad-the-local-job-division-the-dead-dog/
CATEGORIES:ÉVÉNEMENT
ATTACH;FMTTYPE=image/png:https://theblacklab.fr/BL/wp-content/uploads/2024/02/GOODBADLOCAL-slider.png
END:VEVENT
END:VCALENDAR