BEGIN:VCALENDAR
VERSION:2.0
PRODID:-//THE BLACK LAB - ECPv6.6.4//NONSGML v1.0//EN
CALSCALE:GREGORIAN
METHOD:PUBLISH
X-WR-CALNAME:THE BLACK LAB
X-ORIGINAL-URL:https://theblacklab.fr
X-WR-CALDESC:évènements pour THE BLACK LAB
REFRESH-INTERVAL;VALUE=DURATION:PT1H
X-Robots-Tag:noindex
X-PUBLISHED-TTL:PT1H
BEGIN:VTIMEZONE
TZID:Europe/Paris
BEGIN:DAYLIGHT
TZOFFSETFROM:+0100
TZOFFSETTO:+0200
TZNAME:CEST
DTSTART:20260329T010000
END:DAYLIGHT
BEGIN:STANDARD
TZOFFSETFROM:+0200
TZOFFSETTO:+0100
TZNAME:CET
DTSTART:20261025T010000
END:STANDARD
END:VTIMEZONE
BEGIN:VEVENT
DTSTART;TZID=Europe/Paris:20260113T200000
DTEND;TZID=Europe/Paris:20260113T233000
DTSTAMP:20260421T071530
CREATED:20251222T135748Z
LAST-MODIFIED:20251222T140021Z
UID:7180-1768334400-1768347000@theblacklab.fr
SUMMARY:THE GOOD\, THE BAD AND LOCAL : INVERNESS + HAMMERS & THE NAILS
DESCRIPTION:Le Black Lab accueille dès 20h le mardi 13 janvier : \n\n\n\nINVERNESS:Groupe de Post-Rock instrumental lillois aux influences rock prog et psyché \n\n\n\nHAMMERS AND THE NAILS:Le quintet lillois de Rock Alt revient sur la scène grandiose du BL avec ses nouveaux riffs enflammés et son énergie explosive pour garantir une puissante seconde partie de concert \n\n\n\n\n\n\n\n\n\n\n\n\n\n\n\n\n\n\n\n\n\n\n\n\n\n\nEntrée gratuite toute la soirée !
URL:https://theblacklab.fr/agenda/the-good-the-bad-and-local-inverness-hammers-the-nails/
CATEGORIES:ÉVÉNEMENT
ATTACH;FMTTYPE=image/png:https://theblacklab.fr/BL/wp-content/uploads/2024/02/GOODBADLOCAL-slider.png
END:VEVENT
END:VCALENDAR