BEGIN:VCALENDAR
VERSION:2.0
PRODID:-//THE BLACK LAB - ECPv6.6.4//NONSGML v1.0//EN
CALSCALE:GREGORIAN
METHOD:PUBLISH
X-ORIGINAL-URL:https://theblacklab.fr
X-WR-CALDESC:évènements pour THE BLACK LAB
REFRESH-INTERVAL;VALUE=DURATION:PT1H
X-Robots-Tag:noindex
X-PUBLISHED-TTL:PT1H
BEGIN:VTIMEZONE
TZID:Europe/Paris
BEGIN:DAYLIGHT
TZOFFSETFROM:+0100
TZOFFSETTO:+0200
TZNAME:CEST
DTSTART:20260329T010000
END:DAYLIGHT
BEGIN:STANDARD
TZOFFSETFROM:+0200
TZOFFSETTO:+0100
TZNAME:CET
DTSTART:20261025T010000
END:STANDARD
END:VTIMEZONE
BEGIN:VEVENT
DTSTART;TZID=Europe/Paris:20260115T190000
DTEND;TZID=Europe/Paris:20260115T233000
DTSTAMP:20260425T123147
CREATED:20251205T085148Z
LAST-MODIFIED:20251222T123549Z
UID:7105-1768503600-1768519800@theblacklab.fr
SUMMARY:SUICIDE - LYDIA LUNCH & MARC HURTADO
DESCRIPTION:SUICIDE & ALAN VEGA  \n\n\n\nLydia Lunch & Marc Hurtado play Suicide and Alan Vega songs \n\n\n\nMarc Hurtado et son frère se sont faits connaître par leur duo expérimental-indus\, Étant Donnés (référence à Marcel Duchamp) et avaient invité Alan Vega sur l’album Re-Up en 1999. Ils s’étaient également retrouvés sur scène au Centre Pompidou de Paris avec Christophe (le chanteur) en 2004. Hurtado est à la base du concept de Nouvelle Musique Électronique\, ayant travaillé avec Lydia LUNCH\, Gabi Delgado (D.A.F) et Michael Gira (Swans)\, il ne pouvait pas manquer de croiser le chemin d’Alan Vega et enfanter l’infernal album “Sniper” paru sur le Son du Maquis en 2010. \n\n\n\nLydia Lunch a croisé la route d’Alan Vega et de Martin Rev dès la fin des années 70 à son arrivée à New York à l’âge de 16 ans. Elle a joué avec eux sur scène et sur « Frankie Teardrop » de Suicide et elle a participé à l’album “Sniper” d’Alan Vega et Marc Hurtado en 2010. Insatiable\, elle a travaillé avec Nick Cave\, William Burroughs ou Virginie Despentes risquant de perdre la vie des dizaines de fois pour son art. \n\n\n\nCet hommage à l’œuvre de Suicide et Alan Vega est d’autant plus légitime qu’il est porté avec fougue et désespoir par deux êtres possédés et totalement habités par les démons Rev et Vega. \n\n\n\nAux platines avant et après le show\, nous retrouverons l’infâme Beau Bluff aka Pascal Descamps (Forest Sessions) pour nous enivrer de ses mixs douteux puisés aux confins de sa discographie abyssale. \n\n\n\n\n\n\n\n° Tarif KID : 0€ (tarif équivalent en prévente et sur place dans la limite des places disponibles)Entrée gratuite pour les moins de 13 ans obligatoirement accompagnés d’un adulte et porteurs de protections auditives adaptéesJustificatif : carte d’identité \n\n\n\n° Tarif NICE PRICE : 15€ (tarif équivalent en prévente et sur place dans la limite des places disponibles)Tarif très réduit pour les moins de 16 ans\, les étudiants\, les demandeurs d’emploi\, les bénéficiaires de minima sociaux et titulaire du PASS CULTUREJustificatifs : carte d’identité\, carte étudiante\, attestation France Travail\, attestation d’inscription aux différents organismes sociaux \n\n\n\n° Tarif LOW BUDGET : 20€ (tarif équivalent en prévente et sur place dans la limite des places disponibles)Tarif réduit pour les personnes salariées\, indépendantes ou retraitées dont les revenus mensuels sont inférieurs à 1450€ nets qui ne peuvent bénéficier du tarif NICE PRICEJustificatifs : attestation de revenus comme un bulletin de paie récent\, avis d’impôts n-1\, relevé de pension… \n\n\n\n° Tarif REGULAR : 20€ en prévente / 25€ sur place dans la limite des places disponibles—Pour toute revente de tickets merci d’utiliser la plateforme sécurisée de notre partenaire Ticketswap :https://www.ticketswap.fr/…/1e321ecc-26b2-407d-beec… \n\n\n\n\n\n\n\n\n\n\n\n\n\n\n\n\n\n\n\n\nACHETEZ VOS BILLETS
URL:https://theblacklab.fr/agenda/sucde-alan-vega/
CATEGORIES:ÉVÉNEMENT,SLIDER
ATTACH;FMTTYPE=image/png:https://theblacklab.fr/BL/wp-content/uploads/2025/12/Suicide-facebookevent.png
END:VEVENT
END:VCALENDAR