BEGIN:VCALENDAR
VERSION:2.0
PRODID:-//THE BLACK LAB - ECPv6.6.4//NONSGML v1.0//EN
CALSCALE:GREGORIAN
METHOD:PUBLISH
X-ORIGINAL-URL:https://theblacklab.fr
X-WR-CALDESC:évènements pour THE BLACK LAB
REFRESH-INTERVAL;VALUE=DURATION:PT1H
X-Robots-Tag:noindex
X-PUBLISHED-TTL:PT1H
BEGIN:VTIMEZONE
TZID:Europe/Paris
BEGIN:DAYLIGHT
TZOFFSETFROM:+0100
TZOFFSETTO:+0200
TZNAME:CEST
DTSTART:20260329T010000
END:DAYLIGHT
BEGIN:STANDARD
TZOFFSETFROM:+0200
TZOFFSETTO:+0100
TZNAME:CET
DTSTART:20261025T010000
END:STANDARD
END:VTIMEZONE
BEGIN:VEVENT
DTSTART;TZID=Europe/Paris:20260203T193000
DTEND;TZID=Europe/Paris:20260203T223000
DTSTAMP:20260422T124619
CREATED:20260114T124524Z
LAST-MODIFIED:20260116T101923Z
UID:7227-1770147000-1770157800@theblacklab.fr
SUMMARY:THE GOOD\, THE BAD AND LOCAL : NATIVES + NOD MAKERS
DESCRIPTION:THE GOOD THE BAD AND THE LOCAL revient ce mardi 3 février avec 2 supers groupes de la région Natives et Nod Makers!  \n\n\n\nBar\, planches apéro\, canapés\, entrée gratuite… et du bon ROCK évidemment !!! \n\n\n\nPlus d’infos sur les groupes ici :NATIVESFacebook: https://www.facebook.com/NativesGroupeInstagram: https://www.instagram.com/nativesgroupe/ \n\n\n\nNOD MAKERSFacebook: https://www.facebook.com/nodmakers \n\n\n\n\n\n\n\n\n\n\n\n\n\n\n\n\n\n\nEntrée gratuite toute la soirée !
URL:https://theblacklab.fr/agenda/home-front-vaag-baasta-2/
CATEGORIES:ÉVÉNEMENT
ATTACH;FMTTYPE=image/png:https://theblacklab.fr/BL/wp-content/uploads/2024/02/THE-GOOD-THE-BAD-AND-THE-LOCAL-01.png
END:VEVENT
END:VCALENDAR