BEGIN:VCALENDAR
VERSION:2.0
PRODID:-//THE BLACK LAB - ECPv6.6.4//NONSGML v1.0//EN
CALSCALE:GREGORIAN
METHOD:PUBLISH
X-ORIGINAL-URL:https://theblacklab.fr
X-WR-CALDESC:évènements pour THE BLACK LAB
REFRESH-INTERVAL;VALUE=DURATION:PT1H
X-Robots-Tag:noindex
X-PUBLISHED-TTL:PT1H
BEGIN:VTIMEZONE
TZID:Europe/Paris
BEGIN:DAYLIGHT
TZOFFSETFROM:+0100
TZOFFSETTO:+0200
TZNAME:CEST
DTSTART:20260329T010000
END:DAYLIGHT
BEGIN:STANDARD
TZOFFSETFROM:+0200
TZOFFSETTO:+0100
TZNAME:CET
DTSTART:20261025T010000
END:STANDARD
END:VTIMEZONE
BEGIN:VEVENT
DTSTART;TZID=Europe/Paris:20260217T200000
DTEND;TZID=Europe/Paris:20260217T233000
DTSTAMP:20260422T124327
CREATED:20260116T102240Z
LAST-MODIFIED:20260130T093515Z
UID:7233-1771358400-1771371000@theblacklab.fr
SUMMARY:THE GOOD\, THE BAD AND LOCAL : GOD AGAINST + LAST RETALIATION
DESCRIPTION:GOD AGAINST + LAST RETALIATION \n\n\n\n\n\n\n\nGOD AGAINST HUMANITYBlackened Death Metal \n\n\n\nL’univers de God Against Humanity (ou G.A.H.) provient de l’esprit créatif de David DUEZ. Le projet a vu le jour en 2018. Accompagné de son acolyte de longue date\, Simon\, avec qui il avait collaboré dans le groupe NeilAlive\, God Against Humanity a connu plusieurs changements de configurations avant de trouver sa formation actuelle\, incluant Max (ex-Qazar) à la basse\, et Ben (Mindgrief) à la guitare. \n\n\n\nLAST RETALIATIONSludge’n’Roll \n\n\n\nLAST RETALIATION est un groupe fondé en 2024\, issu d’un projet initié en 2023 par Steve Fuzzblood. Après une première moitié d’année 2025 particulièrement chargée\, le groupe connaît des changements de line-up et prépare son retour sur scène en 2026. \n\n\n\nÀ la croisée du stoner et du sludge metal\, Last Retaliation développe un son puissant\, porté par des grooves massifs et des larsens omniprésents \n\n\n\n8 rue des Champs\, Wasquehal \n\n\n\nEntrée Gratuite \n\n\n\n\n\n\n\n\n\n\n\n\n\n\n\n\n\n\n\n\n\n\nEntrée gratuite toute la soirée !
URL:https://theblacklab.fr/agenda/th-good-the-bad-and-local-god-against-last-retaliation/
CATEGORIES:ÉVÉNEMENT
ATTACH;FMTTYPE=image/png:https://theblacklab.fr/BL/wp-content/uploads/2024/02/GOODBADLOCAL-slider.png
END:VEVENT
END:VCALENDAR