BEGIN:VCALENDAR
VERSION:2.0
PRODID:-//THE BLACK LAB - ECPv6.6.4//NONSGML v1.0//EN
CALSCALE:GREGORIAN
METHOD:PUBLISH
X-ORIGINAL-URL:https://theblacklab.fr
X-WR-CALDESC:évènements pour THE BLACK LAB
REFRESH-INTERVAL;VALUE=DURATION:PT1H
X-Robots-Tag:noindex
X-PUBLISHED-TTL:PT1H
BEGIN:VTIMEZONE
TZID:Europe/Paris
BEGIN:DAYLIGHT
TZOFFSETFROM:+0100
TZOFFSETTO:+0200
TZNAME:CEST
DTSTART:20260329T010000
END:DAYLIGHT
BEGIN:STANDARD
TZOFFSETFROM:+0200
TZOFFSETTO:+0100
TZNAME:CET
DTSTART:20261025T010000
END:STANDARD
END:VTIMEZONE
BEGIN:VEVENT
DTSTART;TZID=Europe/Paris:20260222T173000
DTEND;TZID=Europe/Paris:20260222T233000
DTSTAMP:20260422T124619
CREATED:20260218T153118Z
LAST-MODIFIED:20260218T153311Z
UID:7304-1771781400-1771803000@theblacklab.fr
SUMMARY:NAPALM DEATH + WHIPLASH + THE VARUKERS + DOPELORD
DESCRIPTION:NAPALM DEATHWHIPLASHTHE VARUKERSDOPELORD \n\n\n\nDIMANCHE 22 FEVRIER 2026THE BLACK LAB – WASQUEHALDate initialement prévue au Splendid – vos billets restent valables \n\n\n\nInformations groupes & PMR :A GAUCHE DE LA LUNE03 28 04 04 53 – reservation@tickandyou.com \n\n\n\n\n\n\n\n\n\n\n\n\n\n\n\n\n\n\n\n\nACHETEZ VOS BILLETS
URL:https://theblacklab.fr/agenda/napalm-death-whiplash-the-varukers-dopelord/
CATEGORIES:ÉVÉNEMENT,SLIDER
ATTACH;FMTTYPE=image/png:https://theblacklab.fr/BL/wp-content/uploads/2026/02/Napalm-slider.png
END:VEVENT
END:VCALENDAR