BEGIN:VCALENDAR
VERSION:2.0
PRODID:-//THE BLACK LAB - ECPv6.6.4//NONSGML v1.0//EN
CALSCALE:GREGORIAN
METHOD:PUBLISH
X-WR-CALNAME:THE BLACK LAB
X-ORIGINAL-URL:https://theblacklab.fr
X-WR-CALDESC:évènements pour THE BLACK LAB
REFRESH-INTERVAL;VALUE=DURATION:PT1H
X-Robots-Tag:noindex
X-PUBLISHED-TTL:PT1H
BEGIN:VTIMEZONE
TZID:Europe/Paris
BEGIN:DAYLIGHT
TZOFFSETFROM:+0100
TZOFFSETTO:+0200
TZNAME:CEST
DTSTART:20260329T010000
END:DAYLIGHT
BEGIN:STANDARD
TZOFFSETFROM:+0200
TZOFFSETTO:+0100
TZNAME:CET
DTSTART:20261025T010000
END:STANDARD
END:VTIMEZONE
BEGIN:VEVENT
DTSTART;TZID=Europe/Paris:20260303T200000
DTEND;TZID=Europe/Paris:20260303T220000
DTSTAMP:20260420T165724
CREATED:20260130T094824Z
LAST-MODIFIED:20260130T095501Z
UID:7270-1772568000-1772575200@theblacklab.fr
SUMMARY:THE GOOD\, THE BAD AND LOCAL : AKSIS + DOPE4MIND
DESCRIPTION:Aksis sera de retour sur scène ! Entre riffs abrasifs\, rythmiques oppressantes et textures froides\, Aksis construit un univers où la noirceur n’est pas un décor mais un langage. Les textes\, souvent introspectifs et symboliques\, évoquent la chute\, la dualité\, l’amour toxique\, la foi brisée et la lutte intérieure.Sur scène\, Aksis transforme le vice en haute couture. Une élégance noire\, sensuelle et dérangeante.https://open.spotify.com/artist/5RTBee3WJj2K7g69MGLb16… \n\n\n\nDope4mind : https://soundcloud.com/user-800799736Power trio atypique : le minimum de musiciens mais un maximum d’efficacité. OK\, ajoutez un joueur de cornemuse sur un titre et ils sont 4Fusion explosive de metal/punk/hardcore/rock prog/groove métal/NUmetal/psyché…Pour les fan de Pantera\, Rage against The Machine\, Primus\, System of a down… Pour les amoureux de la vie\, pour les furieux\, pour les musiciens qui aiment écouter des trucs gentiment barrés\, pour celles et ceux qui ont envie de découvrir un groupe original… Bref : Pour faire la fête ! \n\n\n\n\n\n\n\n\n\n\n\n\n\n\n\n\n\n\nEntrée gratuite toute la soirée !
URL:https://theblacklab.fr/agenda/7270/
CATEGORIES:ÉVÉNEMENT
ATTACH;FMTTYPE=image/png:https://theblacklab.fr/BL/wp-content/uploads/2024/02/GOODBADLOCAL-slider.png
END:VEVENT
END:VCALENDAR