BEGIN:VCALENDAR
VERSION:2.0
PRODID:-//THE BLACK LAB - ECPv6.6.4//NONSGML v1.0//EN
CALSCALE:GREGORIAN
METHOD:PUBLISH
X-WR-CALNAME:THE BLACK LAB
X-ORIGINAL-URL:https://theblacklab.fr
X-WR-CALDESC:évènements pour THE BLACK LAB
REFRESH-INTERVAL;VALUE=DURATION:PT1H
X-Robots-Tag:noindex
X-PUBLISHED-TTL:PT1H
BEGIN:VTIMEZONE
TZID:Europe/Paris
BEGIN:DAYLIGHT
TZOFFSETFROM:+0100
TZOFFSETTO:+0200
TZNAME:CEST
DTSTART:20260329T010000
END:DAYLIGHT
BEGIN:STANDARD
TZOFFSETFROM:+0200
TZOFFSETTO:+0100
TZNAME:CET
DTSTART:20261025T010000
END:STANDARD
END:VTIMEZONE
BEGIN:VEVENT
DTSTART;TZID=Europe/Paris:20260304T190000
DTEND;TZID=Europe/Paris:20260304T233000
DTSTAMP:20260420T170218
CREATED:20251222T095223Z
LAST-MODIFIED:20251222T095226Z
UID:7157-1772650800-1772667000@theblacklab.fr
SUMMARY:SARĀB
DESCRIPTION:Dans le cadre du Temps d’une Lune #10 – Attacafa et de l’Édition Printemps 2026 – Jazz en Nord \n\n\n\nATTACAFA\, JAZZ EN NORD & THE BLACK LAB proudly present \n\n\n\nSARĀB – fr/sy \n\n\n\nSarab est un vaisseau pirate naviguant entre rock\, musiques arabes et expériences post-punk. \n\n\n\nLeur son est un cri poétique\, une transe électrique mêlée d’engagement et d’énergie brute. Après plus de 100 concerts à travers le monde\, ils poursuivent leur odyssée sonore faite de maqâmat\, de fuzz et de synthés analogiques. \n\n\n\nMercredi 4 mars 2026 \n\n\n\nOuverture des portes 19h00 \n\n\n\n\n\n\n\nTarifs (hors frais de location) : \n\n\n\nNice Price 13€ / Low Budget 18€ / Regular 23€ \n\n\n\n° Tarif NICE PRICE : 13€ (tarif équivalent en prévente et sur place dans la limite des places disponibles)Tarif très réduit pour les abonnés de Attacafa\, les moins de 16 ans\, les étudiants\, les demandeurs d’emploi\, les bénéficiaires de minima sociaux et titulaire du PASS CULTUREJustificatifs : carte d’identité\, carte étudiante\, attestation France Travail\, attestation d’inscription aux différents organismes sociaux \n\n\n\n° Tarif LOW BUDGET : 18€ (tarif équivalent en prévente et sur place dans la limite des places disponibles)Tarif réduit pour les personnes salariées\, indépendantes ou retraitées dont les revenus mensuels sont inférieurs à 1450€ nets qui ne peuvent bénéficier du tarif NICE PRICEJustificatifs : attestation de revenus comme un bulletin de paie récent\, avis d’impôts n-1\, relevé de pension… \n\n\n\n° Tarif REGULAR : 23€ en prévente et sur place dans la limite des places disponibles \n\n\n\n\n\n\n\n\n\n\n\n\n\n\n\n\n\n\n\n\nACHETEZ VOS BILLETS
URL:https://theblacklab.fr/agenda/sarab/
CATEGORIES:ÉVÉNEMENT,SLIDER
ATTACH;FMTTYPE=image/png:https://theblacklab.fr/BL/wp-content/uploads/2025/12/SARAB-slider.png
END:VEVENT
END:VCALENDAR