BEGIN:VCALENDAR
VERSION:2.0
PRODID:-//THE BLACK LAB - ECPv6.6.4//NONSGML v1.0//EN
CALSCALE:GREGORIAN
METHOD:PUBLISH
X-ORIGINAL-URL:https://theblacklab.fr
X-WR-CALDESC:évènements pour THE BLACK LAB
REFRESH-INTERVAL;VALUE=DURATION:PT1H
X-Robots-Tag:noindex
X-PUBLISHED-TTL:PT1H
BEGIN:VTIMEZONE
TZID:Europe/Paris
BEGIN:DAYLIGHT
TZOFFSETFROM:+0100
TZOFFSETTO:+0200
TZNAME:CEST
DTSTART:20260329T010000
END:DAYLIGHT
BEGIN:STANDARD
TZOFFSETFROM:+0200
TZOFFSETTO:+0100
TZNAME:CET
DTSTART:20261025T010000
END:STANDARD
END:VTIMEZONE
BEGIN:VEVENT
DTSTART;TZID=Europe/Paris:20260305T190000
DTEND;TZID=Europe/Paris:20260305T233000
DTSTAMP:20260420T151724
CREATED:20251229T100158Z
LAST-MODIFIED:20251229T100555Z
UID:7191-1772737200-1772753400@theblacklab.fr
SUMMARY:LUICIDAL + LOCOMUERTE 
DESCRIPTION:THE BLACK LAB proudly presents \n\n\n\nLUICIDAL – The original Suicidal Tendencies members playing first S.T. albums – Venice (USA) \n\n\n\nw/ Louichi Mayorga (Bass)\, R.J. Herrera (Drums)\, Mike Clark (Guitar)\, Rocky George (Guitar) & Mando Ochoa (Vocals) and tracks from Suicidal Tendencies (1983)\, Join The Army (1987) and How Will I Laugh Tomorrow When I Can’t Even Smile Today (1988). \n\n\n\nWar inside my head ? War inside my brain ! \n\n\n\n+ LOCOMUERTE – The one and lonely frenchicanos thrashers – Paris (FRA) \n\n\n\n\n\n\n\nTarifs en prévente (hors frais de location) :Kid 0€ / Nice price 13€ / Low budget 18€ / Regular 23€ (28€ sur place) \n\n\n\n° Tarif KID : 0€ (tarif équivalent en prévente et sur place dans la limite des places disponibles)Entrée gratuite pour les moins de 13 ans obligatoirement accompagnés d’un adulte et porteurs de protections auditives adaptéesJustificatif : carte d’identité \n\n\n\n° Tarif NICE PRICE : 13€ (tarif équivalent en prévente et sur place dans la limite des places disponibles)Tarif très réduit pour les moins de 16 ans\, les étudiants\, les demandeurs d’emploi\, les bénéficiaires de minima sociaux et titulaire du PASS CULTUREJustificatifs : carte d’identité\, carte étudiante\, attestation France Travail\, attestation d’inscription aux différents organismes sociaux \n\n\n\n° Tarif LOW BUDGET : 18€ (tarif équivalent en prévente et sur place dans la limite des places disponibles)Tarif réduit pour les personnes salariées\, indépendantes ou retraitées dont les revenus mensuels sont inférieurs à 1400€ nets qui ne peuvent bénéficier du tarif NICE PRICEJustificatifs : attestation de revenus comme un bulletin de paie récent\, avis d’impôts n-1\, relevé de pension… \n\n\n\n° Tarif REGULAR : 23€ en prévente / 28€ sur place dans la limite des places disponibles—Pour toute revente de tickets merci d’utiliser la plateforme sécurisée de notre partenaire Ticketswap :https://www.ticketswap.fr/location/the-black-lab/168670 \n\n\n\n\n\n\n\n\n\n\n\n\n\n\n\n\n\n\n\n\nACHETEZ VOS BILLETS
URL:https://theblacklab.fr/agenda/luicidal-locomuerte/
CATEGORIES:ÉVÉNEMENT,SLIDER
ATTACH;FMTTYPE=image/png:https://theblacklab.fr/BL/wp-content/uploads/2025/12/LUICIDAL-slider.png
END:VEVENT
END:VCALENDAR