BEGIN:VCALENDAR
VERSION:2.0
PRODID:-//THE BLACK LAB - ECPv6.6.4//NONSGML v1.0//EN
CALSCALE:GREGORIAN
METHOD:PUBLISH
X-ORIGINAL-URL:https://theblacklab.fr
X-WR-CALDESC:évènements pour THE BLACK LAB
REFRESH-INTERVAL;VALUE=DURATION:PT1H
X-Robots-Tag:noindex
X-PUBLISHED-TTL:PT1H
BEGIN:VTIMEZONE
TZID:Europe/Paris
BEGIN:DAYLIGHT
TZOFFSETFROM:+0100
TZOFFSETTO:+0200
TZNAME:CEST
DTSTART:20260329T010000
END:DAYLIGHT
BEGIN:STANDARD
TZOFFSETFROM:+0200
TZOFFSETTO:+0100
TZNAME:CET
DTSTART:20261025T010000
END:STANDARD
END:VTIMEZONE
BEGIN:VEVENT
DTSTART;TZID=Europe/Paris:20260306T190000
DTEND;TZID=Europe/Paris:20260306T233000
DTSTAMP:20260420T152511
CREATED:20250902T124931Z
LAST-MODIFIED:20250902T124933Z
UID:6853-1772823600-1772839800@theblacklab.fr
SUMMARY:LEBANON HANOVER
DESCRIPTION:Il était une fois deux âmes poétiques\, qui se rencontrèrent\, puis plongèrent leurs amours nostalgiques dans la musique. Depuis 2010\, Larissa Iceglass et William Maybelline apparaissent comme de véritables romantiques des temps modernes. Le duo exprime ses sensations avec la fragilité et l’élégance de la cold-wave française\, les éléments les plus subtiles du rock gothique et l’esthétisme de la minimal wave. Ils présenteront leur nouvel album à venir sur Fabrika records. \n\n\n\n \n\n\n\n\n\n\n\n\n\n\n\n\n\n\n\n\n\n\n\n\n\n\n\n\nACHETEZ VOS BILLETS
URL:https://theblacklab.fr/agenda/lebanon-hanover-2/
CATEGORIES:ÉVÉNEMENT,SLIDER
ATTACH;FMTTYPE=image/png:https://theblacklab.fr/BL/wp-content/uploads/2025/09/Lebanon-slider.png
END:VEVENT
END:VCALENDAR