BEGIN:VCALENDAR
VERSION:2.0
PRODID:-//THE BLACK LAB - ECPv6.6.4//NONSGML v1.0//EN
CALSCALE:GREGORIAN
METHOD:PUBLISH
X-ORIGINAL-URL:https://theblacklab.fr
X-WR-CALDESC:évènements pour THE BLACK LAB
REFRESH-INTERVAL;VALUE=DURATION:PT1H
X-Robots-Tag:noindex
X-PUBLISHED-TTL:PT1H
BEGIN:VTIMEZONE
TZID:Europe/Paris
BEGIN:DAYLIGHT
TZOFFSETFROM:+0100
TZOFFSETTO:+0200
TZNAME:CEST
DTSTART:20260329T010000
END:DAYLIGHT
BEGIN:STANDARD
TZOFFSETFROM:+0200
TZOFFSETTO:+0100
TZNAME:CET
DTSTART:20261025T010000
END:STANDARD
END:VTIMEZONE
BEGIN:VEVENT
DTSTART;TZID=Europe/Paris:20260307T190000
DTEND;TZID=Europe/Paris:20260307T233000
DTSTAMP:20260420T151724
CREATED:20251229T103601Z
LAST-MODIFIED:20260306T121316Z
UID:7195-1772910000-1772926200@theblacklab.fr
SUMMARY:[SOLD OUT] PIERPOLJAK  
DESCRIPTION:ACCESS LIVE PRESENTE :  \n\n\n\n➤ Chanteur au long cours\, la musique a porté Pierpoljak au quatre coins du globe pour propager ce reggae music qui a changé sa vie… Des millions de disques vendus\, une victoire de la musique et 12 albums au compteur\, c’est sur scène avec son live band que la Pekah machine prend toute son ampleur: energie\, sens de la mélodie et lyrics fédérateurs font chanter le public en choeur… \n\n\n\nDes hymnes intergénérationnels qu’on a tous fredonné\, Pierpoljak live and direct dans la pure tradition jamaïcaine c’est des frissons garantis!  \n\n\n\n+ WARM UP by SOUL IRATION \n\n\n\n\n\n\n\n Billetterie :  https://agauchedelalune.tickandyou.com/…/2765… et dans les points de ventes habituels \n\n\n\n→ Informations groupes & PMR :A GAUCHE DE LA LUNE03 28 04 04 53 – reservation@tickandyou.com \n\n\n\n\n\n\n\n\n\n\n\n\n\n\n\n\n\n\n\n\nACHETEZ VOS BILLETS
URL:https://theblacklab.fr/agenda/pierpoljak/
CATEGORIES:ÉVÉNEMENT,SLIDER
ATTACH;FMTTYPE=image/png:https://theblacklab.fr/BL/wp-content/uploads/2025/12/PIERPLOJAK-scaled.png
END:VEVENT
END:VCALENDAR