BEGIN:VCALENDAR
VERSION:2.0
PRODID:-//THE BLACK LAB - ECPv6.6.4//NONSGML v1.0//EN
CALSCALE:GREGORIAN
METHOD:PUBLISH
X-WR-CALNAME:THE BLACK LAB
X-ORIGINAL-URL:https://theblacklab.fr
X-WR-CALDESC:évènements pour THE BLACK LAB
REFRESH-INTERVAL;VALUE=DURATION:PT1H
X-Robots-Tag:noindex
X-PUBLISHED-TTL:PT1H
BEGIN:VTIMEZONE
TZID:Europe/Paris
BEGIN:DAYLIGHT
TZOFFSETFROM:+0100
TZOFFSETTO:+0200
TZNAME:CEST
DTSTART:20260329T010000
END:DAYLIGHT
BEGIN:STANDARD
TZOFFSETFROM:+0200
TZOFFSETTO:+0100
TZNAME:CET
DTSTART:20261025T010000
END:STANDARD
END:VTIMEZONE
BEGIN:VEVENT
DTSTART;TZID=Europe/Paris:20260308T190000
DTEND;TZID=Europe/Paris:20260308T233000
DTSTAMP:20260420T163848
CREATED:20251215T094727Z
LAST-MODIFIED:20251230T102039Z
UID:7121-1772996400-1773012600@theblacklab.fr
SUMMARY: GOETHES ERBEN + THE ARCH + UNFARBEN
DESCRIPTION:Goethes Erben x The Arch x Unfarben \n\n\n\nCette soirée proposée par Forest Sound Production transforme The Black Lab en véritable temple de la musique électronique alternative. Goethes Erben déploiera son mélange unique de théâtre musical et de poésie\, créant une darkwave intense et immersive qui fait de chaque représentation une expérience sensorielle unique. L’univers sombre\, émotionnel et viscéral du groupe allemand promet de captiver le public du Nord. \n\n\n\nLa programmation se complète avec The Arch\, formation belge qui apporte une vague électrisante fusionnant énergie sombre et mélodies hypnotiques\, et Unfarben\, maîtres de l’alchimie entre atmosphères sombres\, élégance minimaliste et intensité coldwave. \n\n\n\nFondé en janvier 1989 par Oswald Henke et Peter Seipt\, Goethes Erben (« les héritiers de Goethe ») a rapidement développé une identité unique mêlant musique et théâtre. Après le départ de Peter Seipt en 1990\, le groupe s’est enrichi avec Mindy Kumbalek aux claviers et saxophone\, et Conny R. à la guitare\, évoluant d’un duo vers une formation plus complexe. \n\n\n\nLe style musical du groupe combine dark wave\, musique avant-gardiste et électropop\, caractérisé par des textes majoritairement parlés en allemand et une forte dimension théâtrale. Leurs concerts intègrent danse\, jeu scénique et projections vidéo\, créant une expérience immersive totale. L’album « Nichts bleibt wie es war » a marqué leur succès commercial en entrant dans les charts allemands. \n\n\n\nProfondément avant-gardiste\, mélange de théâtre musical et de poésie\, Goethes Erben nous offre une darkwave intense et immersive\, un univers sombre\, émotionnel et viscéral qui transforme chaque performance en expérience unique.Soirée complétée par les belges de The Arch\, une vague électrisante qui fusionne énergie sombre\, mélodies hypnotiques et intenses et Unfarben\, l’alchimie parfaite entre atmosphères sombres\, élégance minimaliste et intensité coldwave. \n\n\n\n\n\n\n\n\n\n\n\n\n\n\n\n\n\n\n\n\nACHETEZ VOS BILLETS
URL:https://theblacklab.fr/agenda/goethes-erben-the-arch-unfarben/
CATEGORIES:ÉVÉNEMENT,SLIDER
ATTACH;FMTTYPE=image/png:https://theblacklab.fr/BL/wp-content/uploads/2025/12/Goethes-Erben-.png
END:VEVENT
END:VCALENDAR