BEGIN:VCALENDAR
VERSION:2.0
PRODID:-//THE BLACK LAB - ECPv6.6.4//NONSGML v1.0//EN
CALSCALE:GREGORIAN
METHOD:PUBLISH
X-WR-CALNAME:THE BLACK LAB
X-ORIGINAL-URL:https://theblacklab.fr
X-WR-CALDESC:évènements pour THE BLACK LAB
REFRESH-INTERVAL;VALUE=DURATION:PT1H
X-Robots-Tag:noindex
X-PUBLISHED-TTL:PT1H
BEGIN:VTIMEZONE
TZID:Europe/Paris
BEGIN:DAYLIGHT
TZOFFSETFROM:+0100
TZOFFSETTO:+0200
TZNAME:CEST
DTSTART:20260329T010000
END:DAYLIGHT
BEGIN:STANDARD
TZOFFSETFROM:+0200
TZOFFSETTO:+0100
TZNAME:CET
DTSTART:20261025T010000
END:STANDARD
END:VTIMEZONE
BEGIN:VEVENT
DTSTART;TZID=Europe/Paris:20260313T190000
DTEND;TZID=Europe/Paris:20260313T233000
DTSTAMP:20260420T164118
CREATED:20251222T142809Z
LAST-MODIFIED:20251222T145555Z
UID:7185-1773428400-1773444600@theblacklab.fr
SUMMARY:KID CONGO & THE PINK MONKEY BIRDS + LIZ LAMERE  
DESCRIPTION:THE BLACK LAB proudly presents \n\n\n\nKID CONGO & THE PINK MONKEY BIRDSfrom Tucson\, USAas known as extremely talented guitarist of The Gun Club\, The Cramps\, Nick Cave And The Bad Seeds… \n\n\n\nMembre fondateur de The Gun Club\, Kid Congo Powers a également gratté pour The Cramps et Nick Cave & the Bad Seeds. Figure emblématique de l’underground new yorkais de ces 45 dernières années\, accompagné de ses Pink Monkey Birds\, il livre aujourd’hui un garage rock sublimé par ses incantations de sorciers. Son dernier album “That Delicious Vice”\, sorti en 2024 toujours sur le fabuleux label In The Red Records\, marque l’avènement du groupe en un solide (Powers) trio. \n\n\n\nDéjà vécu en live\, on s’est pris une torgnole. Laissez-vous donc envouter par la légende.As usual\, be there or be square. \n\n\n\n+ LIZ LAMEREfrom New York\, USAas known as extremely talented collaborative wife of Alan Vega from Suicide… \n\n\n\nVendredi 13 mars 2026Ouverture des portes 19h00 \n\n\n\n\n\n\n\nKid 0€ / Nice price 10€ / Low budget 15€ / Regular 20€ (25€ sur place) \n\n\n\n° Tarif KID : 0€ (tarif équivalent en prévente et sur place dans la limite des places disponibles)Entrée gratuite pour les moins de 13 ans obligatoirement accompagnés d’un adulte et porteurs de protections auditives adaptéesJustificatif : carte d’identité \n\n\n\n° Tarif NICE PRICE : 10€ (tarif équivalent en prévente et sur place dans la limite des places disponibles)Tarif très réduit pour les moins de 16 ans\, les étudiants\, les demandeurs d’emploi\, les bénéficiaires de minima sociaux et titulaire du PASS CULTUREJustificatifs : carte d’identité\, carte étudiante\, attestation France Travail\, attestation d’inscription aux différents organismes sociaux \n\n\n\n° Tarif LOW BUDGET : 15€ (tarif équivalent en prévente et sur place dans la limite des places disponibles)Tarif réduit pour les personnes salariées\, indépendantes ou retraitées dont les revenus mensuels sont inférieurs à 1450€ nets qui ne peuvent bénéficier du tarif NICE PRICEJustificatifs : attestation de revenus comme un bulletin de paie récent\, avis d’impôts n-1\, relevé de pension… \n\n\n\n° Tarif REGULAR : 20€ en prévente / 25€ sur place dans la limite des places disponibles \n\n\n\n—Pour toute revente de tickets merci d’utiliser la plateforme sécurisée de notre partenaire Ticketswap :https://www.ticketswap.fr/…/1e321ecc-26b2-407d-beec… \n\n\n\n\n\n\n\n\n\n\n\n\n\n\n\n\n\n\n\n\nACHETEZ VOS BILLETS
URL:https://theblacklab.fr/agenda/kid-congo-the-pink-monkey-birds-liz-lamere/
CATEGORIES:ÉVÉNEMENT,SLIDER
ATTACH;FMTTYPE=image/png:https://theblacklab.fr/BL/wp-content/uploads/2025/12/KID-CONGO-slider.png
END:VEVENT
END:VCALENDAR