BEGIN:VCALENDAR
VERSION:2.0
PRODID:-//THE BLACK LAB - ECPv6.6.4//NONSGML v1.0//EN
CALSCALE:GREGORIAN
METHOD:PUBLISH
X-ORIGINAL-URL:https://theblacklab.fr
X-WR-CALDESC:évènements pour THE BLACK LAB
REFRESH-INTERVAL;VALUE=DURATION:PT1H
X-Robots-Tag:noindex
X-PUBLISHED-TTL:PT1H
BEGIN:VTIMEZONE
TZID:Europe/Paris
BEGIN:DAYLIGHT
TZOFFSETFROM:+0100
TZOFFSETTO:+0200
TZNAME:CEST
DTSTART:20260329T010000
END:DAYLIGHT
BEGIN:STANDARD
TZOFFSETFROM:+0200
TZOFFSETTO:+0100
TZNAME:CET
DTSTART:20261025T010000
END:STANDARD
END:VTIMEZONE
BEGIN:VEVENT
DTSTART;TZID=Europe/Paris:20260319T200000
DTEND;TZID=Europe/Paris:20260319T233000
DTSTAMP:20260420T152518
CREATED:20251008T132535Z
LAST-MODIFIED:20260313T105351Z
UID:6967-1773950400-1773963000@theblacklab.fr
SUMMARY:HIGH PARASITE + THE OLD DEAD TREE
DESCRIPTION:HIGH PARASITE + THE OLD DEAD TREEJEUDI 19 MARS 2026 – 20H00THE BLACK LAB – WASQUEHAL \n\n\n\nHIGH PARASITE➤ High Parasite est le nouveau groupe d’Aaron Stainthorpe (My Dying Bride)\, en duo créatif avec Tombs. Leur style\, baptisé Death Pop\, mêle metal gothique\, rock sombre et synth-pop. Leur premier album “Forever We Burn” sort le 27 septembre 2024\, produit par Gregor Mackintosh (Paradise Lost).Le premier single “Let It Fail”\, sorti le 30 mai\, annonce un univers sombre et mélodique\, porté par de gros riffs et une ambiance électro-indus. Le groupe partira en tournée avec Cradle of Filth en octobre/novembre 2024 au Royaume-Uni et en Irlande.High Parasite est prêt à embrasser les ténèbres\, sur disque comme sur scène. \n\n\n\nTHE OLD DEAD TREE➤ Marqué dès ses débuts par le suicide de son batteur\, le groupe a su surmonter cette tragédie pour donner naissance à une musique hybride combinant puissance metal et émotions à fleur de peau. Ce style unique\, porté par une voix incroyablement versatile\, a su conquérir la scène metal européenne en trois albums acclamés par la critique avant que ne soit annoncée la séparation du groupe en 2009.La sortie de Terrified marque la réunion inespérée des compositeurs historiques de THE OLD DEAD TREE\, Nicolas Chevrollier et Manuel Munoz\, qui avaient cessé toute collaboration depuis 2007. \n\n\n\n\n\n\n\n→ Informations groupes & PMR :A GAUCHE DE LA LUNE03 28 04 04 53 – reservation@tickandyou.com \n\n\n\n\n\n\n\n\n\n\n\n\n\n\n\n\n\n\n\n\n\n\n\n\nACHETEZ VOS BILLETS
URL:https://theblacklab.fr/agenda/hight-parasite-the-old-dead-tree/
CATEGORIES:ÉVÉNEMENT,SLIDER
ATTACH;FMTTYPE=image/png:https://theblacklab.fr/BL/wp-content/uploads/2025/10/HIGH-Parasite-2.png
END:VEVENT
END:VCALENDAR