BEGIN:VCALENDAR
VERSION:2.0
PRODID:-//THE BLACK LAB - ECPv6.6.4//NONSGML v1.0//EN
CALSCALE:GREGORIAN
METHOD:PUBLISH
X-ORIGINAL-URL:https://theblacklab.fr
X-WR-CALDESC:évènements pour THE BLACK LAB
REFRESH-INTERVAL;VALUE=DURATION:PT1H
X-Robots-Tag:noindex
X-PUBLISHED-TTL:PT1H
BEGIN:VTIMEZONE
TZID:Europe/Paris
BEGIN:DAYLIGHT
TZOFFSETFROM:+0100
TZOFFSETTO:+0200
TZNAME:CEST
DTSTART:20260329T010000
END:DAYLIGHT
BEGIN:STANDARD
TZOFFSETFROM:+0200
TZOFFSETTO:+0100
TZNAME:CET
DTSTART:20261025T010000
END:STANDARD
END:VTIMEZONE
BEGIN:VEVENT
DTSTART;TZID=Europe/Paris:20260326T200000
DTEND;TZID=Europe/Paris:20260326T233000
DTSTAMP:20260420T164349
CREATED:20250625T144339Z
LAST-MODIFIED:20260304T153841Z
UID:6799-1774555200-1774567800@theblacklab.fr
SUMMARY:[SOLD OUT] EIFFEL
DESCRIPTION:EIFFEL“EIFFEL est le projet Rock de ROMAIN HUMEAU.Chanteur-Auteur-Compositeur-Multi-instrumentiste et Réalisateur\, Romain Humeau a enregistré 12 albums. Hors codes et standards du rock\, ses productions protéiformes évoluent dans de multiples registres et changent de peau régulièrement sans jamais perdre le fil des chansons. Influencé par l’Art-Rock des Bowie\, Pixies\, Lennon-McCartney\, XTC\, Talking Heads tout autant que Bach\, Brel\, un certain rap comme une certaine électro\, Beck\, Vian\, Coltrane\, Dépêche Mode\, la musique Latino-Américaine\, Baroque et Romantique\, Eiffel est une [r]évolution permanente. Près de 1000 concerts en France\, Belgique\, Quebec et Suisse\, fort d’une touchante proximité avec ses fans hardcores autoproclamés « Les Ahuris »\, Eiffel est un corps concret\, sans avatar virtuel.” \n\n\n\n\n\n\n\n→ Informations groupes & PMR :A GAUCHE DE LA LUNE03 28 04 04 53 – reservation@tickandyou.com \n\n\n\n\n\n\n\n\n\n\n\n\n\n\n\n\n\n\n\n\nACHETEZ VOS BILLETS
URL:https://theblacklab.fr/agenda/eiffel/
CATEGORIES:ÉVÉNEMENT,SLIDER
ATTACH;FMTTYPE=image/png:https://theblacklab.fr/BL/wp-content/uploads/2025/06/eiffel-slider.png
END:VEVENT
END:VCALENDAR