BEGIN:VCALENDAR
VERSION:2.0
PRODID:-//THE BLACK LAB - ECPv6.6.4//NONSGML v1.0//EN
CALSCALE:GREGORIAN
METHOD:PUBLISH
X-ORIGINAL-URL:https://theblacklab.fr
X-WR-CALDESC:évènements pour THE BLACK LAB
REFRESH-INTERVAL;VALUE=DURATION:PT1H
X-Robots-Tag:noindex
X-PUBLISHED-TTL:PT1H
BEGIN:VTIMEZONE
TZID:Europe/Paris
BEGIN:DAYLIGHT
TZOFFSETFROM:+0100
TZOFFSETTO:+0200
TZNAME:CEST
DTSTART:20260329T010000
END:DAYLIGHT
BEGIN:STANDARD
TZOFFSETFROM:+0200
TZOFFSETTO:+0100
TZNAME:CET
DTSTART:20261025T010000
END:STANDARD
END:VTIMEZONE
BEGIN:VEVENT
DTSTART;TZID=Europe/Paris:20260329T190000
DTEND;TZID=Europe/Paris:20260329T233000
DTSTAMP:20260420T163351
CREATED:20251219T130559Z
LAST-MODIFIED:20260205T001728Z
UID:7147-1774810800-1774827000@theblacklab.fr
SUMMARY:PATRICK RONDAT [CHANGEMENT DE DATE]
DESCRIPTION:PATRICK RONDATDIMANCHE 29 MARS 2026 – 19H00  \n\n\n\nJEU. 16 AVRIL 2026 – 19h00THE BLACK LAB – WASQUEHAL \n\n\n\nTARIF : 27\,80€ – Debout \n\n\n\nPATRICK RONDAT➤ Difficile de résumer la carrière de Patrick RONDAT\, tant elle est riche en rencontres musicales.Issu de la scène hard rock des années 80\, il s’illustre tout particulièrement dans le métal instrumental.Six albums studio\, des sorties live ou encore best-of\, des tournées à travers le monde\, en solo\, mais aussi avec les plus grands (Monsters of rock\, G3 à l’invitation de Joe Satriani) et des collaborations avec d’autres artistes (Simon Philipps\, Steve Lukather\, sans oublier Jean-Michel Jarre\, qu’il accompagne à la guitare de nombreuses années). \n\n\n\n Informations groupes & PMR :A GAUCHE DE LA LUNE03 28 04 04 53 – reservation@tickandyou.com \n\n\n\n\n\n\n\n\n\n\n\n\n\n\n\n\n\n\n\n\nACHETEZ VOS BILLETS
URL:https://theblacklab.fr/agenda/patrick-rondat/
CATEGORIES:ÉVÉNEMENT
ATTACH;FMTTYPE=image/png:https://theblacklab.fr/BL/wp-content/uploads/2026/02/rondat_BANNIERE-1.png
END:VEVENT
END:VCALENDAR