BEGIN:VCALENDAR
VERSION:2.0
PRODID:-//THE BLACK LAB - ECPv6.6.4//NONSGML v1.0//EN
CALSCALE:GREGORIAN
METHOD:PUBLISH
X-ORIGINAL-URL:https://theblacklab.fr
X-WR-CALDESC:évènements pour THE BLACK LAB
REFRESH-INTERVAL;VALUE=DURATION:PT1H
X-Robots-Tag:noindex
X-PUBLISHED-TTL:PT1H
BEGIN:VTIMEZONE
TZID:Europe/Paris
BEGIN:DAYLIGHT
TZOFFSETFROM:+0100
TZOFFSETTO:+0200
TZNAME:CEST
DTSTART:20260329T010000
END:DAYLIGHT
BEGIN:STANDARD
TZOFFSETFROM:+0200
TZOFFSETTO:+0100
TZNAME:CET
DTSTART:20261025T010000
END:STANDARD
END:VTIMEZONE
BEGIN:VEVENT
DTSTART;TZID=Europe/Paris:20260409T200000
DTEND;TZID=Europe/Paris:20260409T233000
DTSTAMP:20260420T135256
CREATED:20251027T122137Z
LAST-MODIFIED:20260401T134606Z
UID:7019-1775764800-1775777400@theblacklab.fr
SUMMARY:[SOLD OUT] NOVELISTS + TSS + VIANOVA
DESCRIPTION:NOVELISTS + TSS + VIANOVA \n\n\n\nNOVELISTS➤ Novelists est un groupe de metal français qui a conquis la scène metalcore mondiale grâce à son mélange unique d’éléments progressifs et mélodiques.Formé à Paris en 2013\, le groupe s’est rapidement imposé et a su se forger une base de fans dévouée grâce à son son distinctif et à sa musique chargée d’émotion.En 2023\, Novelists devient un groupe à voix féminine avec l’arrivée de Camille Contreras.Ils sortent ensuite trois singles qui accumulent rapidement des millions d’écoutes sur toutes les plateformes\, consolidant leur statut de groupe influent et respecté sur la scène metal contemporaine. \n\n\n\nTSS➤ TSS est un groupe français de modern metal dynamique\, reconnu pour son mélange innovant d’emo\, de metalcore\, de rock alternatif\, de synthwave\, et plus récemment d’influences phonk et néo-metal.Le parcours de TSS\, marqué par une innovation constante et une fusion audacieuse des genres\, a fait du groupe une force montante incontournable de la scène metal moderne\, rassemblant une communauté de fans toujours plus large et diversifiée. \n\n\n\nVIANOVA➤ La vision de vianova a pris vie lorsque les frères Felix et Paul Vogelgesang ont décidé de s’installer à Berlin en 2014. Animés par le désir de créer de la musique et de susciter des émotions\, ils aspiraient à écrire des morceaux de metal à la fois authentiques et pleins d’énergie.En 2024\, vianova signe avec le label majeur Arising Empire et affirme sa sa volonté de repousser les frontières du genre.Cette évolution sonore s’accompagne d’une transformation visuelle vibrante\, marquée par une énergie concentrée et juvénile qui insuffle un vent de fraîcheur dans un paysage metalcore souvent perçu comme figé. \n\n\n\n\n\n\n\n\n\n\n\n\n\n\n\n\n\n\n\n\nACHETEZ VOS BILLETS
URL:https://theblacklab.fr/agenda/novelists-tss-vianova/
CATEGORIES:ÉVÉNEMENT,SLIDER
ATTACH;FMTTYPE=image/png:https://theblacklab.fr/BL/wp-content/uploads/2025/10/NOVELISTS-TSS-VIANOVA-scaled.png
END:VEVENT
END:VCALENDAR