BEGIN:VCALENDAR
VERSION:2.0
PRODID:-//THE BLACK LAB - ECPv6.6.4//NONSGML v1.0//EN
CALSCALE:GREGORIAN
METHOD:PUBLISH
X-WR-CALNAME:THE BLACK LAB
X-ORIGINAL-URL:https://theblacklab.fr
X-WR-CALDESC:évènements pour THE BLACK LAB
REFRESH-INTERVAL;VALUE=DURATION:PT1H
X-Robots-Tag:noindex
X-PUBLISHED-TTL:PT1H
BEGIN:VTIMEZONE
TZID:Europe/Paris
BEGIN:DAYLIGHT
TZOFFSETFROM:+0100
TZOFFSETTO:+0200
TZNAME:CEST
DTSTART:20260329T010000
END:DAYLIGHT
BEGIN:STANDARD
TZOFFSETFROM:+0200
TZOFFSETTO:+0100
TZNAME:CET
DTSTART:20261025T010000
END:STANDARD
END:VTIMEZONE
BEGIN:VEVENT
DTSTART;TZID=Europe/Paris:20260415T190000
DTEND;TZID=Europe/Paris:20260415T233000
DTSTAMP:20260420T135213
CREATED:20251209T102137Z
LAST-MODIFIED:20260407T131537Z
UID:7110-1776279600-1776295800@theblacklab.fr
SUMMARY:[ANNULÉ] PAIN MAGAZINE = BIRDS IN ROW x LOUISAHHH x MAELSTROM + BEASTS 
DESCRIPTION:————————————————————————————— \n\n\n\n ANNULATION  \n\n\n\n Nous sommes au regret de vous annoncer l’annulation du concert de Pain Magazine @ THE BLACK LAB. Tous les tickets seront remboursés automatiquement\, vous n’avez rien à faire. \n\n\n\n Recevez nos plus plates excuses pour les éventuels désagréments et la déception que nous partageons. \n\n\n\n————————————————————————————— \n\n\n\n \n\n\n\nTHE BLACK LAB proudly presents \n\n\n\nPAIN MAGAZINEest le super groupe réunissant BIRDS IN ROW x LOUISAHHH x MAELSTROM \n\n\n\nPost-hardcore and industrial techno collide to shape something new.More noise. More guts. More heart. \n\n\n\n+ BEASTS (from Belgium with noise) \n\n\n\nMercredi 15 avril 2026Ouverture des portes 19h00Fin des concerts avant le dernier métroFin des haricots 01h00 \n\n\n\n\n\n\n\n° Tarif KID : 0€ (tarif équivalent en prévente et sur place dans la limite des places disponibles)Entrée gratuite pour les moins de 13 ans obligatoirement accompagnés d’un adulte et porteurs de protections auditives adaptéesJustificatif : carte d’identité \n\n\n\n° Tarif NICE PRICE : 10€ (tarif équivalent en prévente et sur place dans la limite des places disponibles)Tarif très réduit pour les moins de 16 ans\, les étudiants\, les demandeurs d’emploi\, les bénéficiaires de minima sociaux et titulaire du PASS CULTUREJustificatifs : carte d’identité\, carte étudiante\, attestation France Travail\, attestation d’inscription aux différents organismes sociaux \n\n\n\n° Tarif LOW BUDGET : 15€ (tarif équivalent en prévente et sur place dans la limite des places disponibles)Tarif réduit pour les personnes salariées\, indépendantes ou retraitées dont les revenus mensuels sont inférieurs à 1450€ nets qui ne peuvent bénéficier du tarif NICE PRICEJustificatifs : attestation de revenus comme un bulletin de paie récent\, avis d’impôts n-1\, relevé de pension… \n\n\n\n° Tarif REGULAR : 20€ en prévente / 25€ sur place dans la limite des places disponibles—Pour toute revente de tickets merci d’utiliser la plateforme sécurisée de notre partenaire Ticketswap :https://www.ticketswap.fr/organizer/the-black-lab/… \n\n\n\n\n\n\n\n\n\n\n\n\n\n\n\n\n\n\n\n\nANNULÉ
URL:https://theblacklab.fr/agenda/pain-magazine-birds-in-row-x-louisahhh-x-maelstrom-beasts/
CATEGORIES:ÉVÉNEMENT
ATTACH;FMTTYPE=image/png:https://theblacklab.fr/BL/wp-content/uploads/2025/12/PAIN-MAGAZINE-slider.png
END:VEVENT
END:VCALENDAR